Workbook

Sheet Historical Cash Receipts Table
A1: Historical Cash Receipts
B3: Bonus | C3: Royalty | D3: Leasehold Payments | E3: Interest | F3: Total | G3: Monthly Average
A5: FY 80-81 | B5: 1.9810475e+08 | C5: 1.2696294e+08 | D5: 13726070 | E5: 38009.14 | F5: =+B5+C5+D5+E5 -> 3.3883176e+08 | G5: =SUM(F5/12) -> 28235980
A6: FY 81-82 | B6: 1.3111708e+08 | C6: 3.4802742e+08 | D6: 40948515 | E6: 265202.87 | F6: =+B6+C6+D6+E6 -> 5.2035822e+08 | G6: =SUM(F6/12) -> 43363185
A7: FY 82-83 | B7: 1.2507733e+08 | C7: 4.7426331e+08 | D7: 55641805 | E7: 3391727.2 | F7: =+B7+C7+D7+E7 -> 6.5837418e+08 | G7: =SUM(F7/12) -> 54864515
A8: FY 83-84 | B8: 44758460 | C8: 4.5969825e+08 | D8: 43255022 | E8: 1524255.6 | F8: =+B8+C8+D8+E8 -> 5.4923599e+08 | G8: =SUM(F8/12) -> 45769665
A9: FY 84-85 | B9: 55880090 | C9: 4.5579183e+08 | D9: 21309253 | E9: 1763378.7 | F9: =+B9+C9+D9+E9 -> 5.3474455e+08 | G9: =SUM(F9/12) -> 44562046
A10: FY 85-86 | B10: 61170201 | C10: 4.3181587e+08 | D10: 21511753 | E10: 1113370.7 | F10: =+B10+C10+D10+E10 -> 5.156112e+08 | G10: =SUM(F10/12) -> 42967600
A11: FY 86-87 | B11: 25942570 | C11: 3.5487909e+08 | D11: 17665672 | E11: 1606831.6 | F11: =+B11+C11+D11+E11 -> 4.0009417e+08 | G11: =SUM(F11/12) -> 33341181
A12: FY 87-88 | B12: 12353802 | C12: 2.7125791e+08 | D12: 8929752.7 | E12: 11979478 | F12: =+B12+C12+D12+E12 -> 3.0452094e+08 | G12: =SUM(F12/12) -> 25376745
A13: FY 88-89 | B13: 28745161 | C13: 2.390461e+08 | D13: 5812014 | E13: 843904.24 | F13: =+B13+C13+D13+E13 -> 2.7444718e+08 | G13: =SUM(F13/12) -> 22870598
A14: FY 89-90 | B14: 14566153 | C14: 2.0672006e+08 | D14: 9269143 | E14: 3222195.2 | F14: =+B14+C14+D14+E14 -> 2.3377755e+08 | G14: =SUM(F14/12) -> 19481462
A15: FY 90-91 | B15: 11165526 | C15: 2.5374652e+08 | D15: 9211891.1 | E15: 5203730.4 | F15: =+B15+C15+D15+E15 -> 2.7932767e+08 | G15: =SUM(F15/12) -> 23277306
A16: FY 91-92 | B16: 6434396.9 | C16: 2.0990105e+08 | D16: 7311704.3 | E16: 3921210.6 | F16: =+B16+C16+D16+E16 -> 2.2756837e+08 | G16: =SUM(F16/12) -> 18964030
... A32: FY 07-08 | B32: 61175021 | C32: 6.9303489e+08 | D32: 29820735 | E32: 2322080.7 | F32: =+B32+C32+D32+E32 -> 7.8635273e+08 | G32: =SUM(F32/12) -> 65529394
A33: FY 08-09 | B33: 143182978 | C33: 6.8440548e+08 | D33: 21853067 | E33: 1581618 | F33: =SUM(B33:E33) -> 8.5102315e+08 | G33: =SUM(F33/12) -> 70918596
A34: FY 09-10 | B34: 29151741 | C34: 420718802 | D34: 26049542 | E34: 3612904 | F34: =SUM(B34:E34) -> 4.7953299e+08 | G34: =SUM(F34/12) -> 39961082
A35: FY 10-11 | B35: 30293007 | C35: 501602312 | D35: 22735393 | E35: 3725864 | F35: =SUM(B35:E35) -> 5.5835658e+08 | G35: =F35/12 -> 46529715
A36: FY 11-12 | B36: 28328115 | C36: 598011946 | D36: 16850804 | E36: 2921848 | F36: =SUM(B36:E36) -> 6.4611271e+08 | G36: =F36/12 -> 53842726
A37: FY 12-13 | B37: 17365615 | C37: 5.3580179e+08 | D37: 17837246 | E37: 3539485 | F37: =SUM(B37:E37) -> 5.7454413e+08 | G37: =F37/12 -> 47878678
A38: FY 13-14 | B38: 17298584 | C38: 5.6069061e+08 | D38: 14367830 | E38: 2272946 | F38: =SUM(B38:E38) -> 5.9462997e+08 | G38: =F38/12 -> 49552498
A39: FY 14-15 | B39: 7647344 | C39: 4.3291545e+08 | D39: 14535052 | E39: 575241 | F39: =SUM(B39:E39) -> 4.5567309e+08 | G39: =F39/12 -> 37972757
A40: FY 15-16 | B40: 2052042 | C40: 2.1097942e+08 | D40: 4105912.1 | E40: 982259 | F40: =SUM(B40:E40) -> 2.1811964e+08 | G40: =F40/12 -> 18176636
A41: FY 16-17 | B41: 1354743 | C41: 2.0520415e+08 | D41: 2664306.1 | E41: 1407837 | F41: =SUM(B41:E41) -> 2.1063104e+08 | G41: =F41/12 -> 17552587
A42: FY 17-18 | B42: 4204596 | C42: 1.9563576e+08 | D42: 1510549.1 | E42: 653161.81 | F42: =SUM(B42:E42) -> 2.0200407e+08 | G42: =F42/12 -> 16833672
A43: FY 18-19 | B43: 13580147 | C43: 2.2004471e+08 | D43: 1394617.3 | E43: 442926 | F43: =SUM(B43:E43) -> 2.354624e+08 | G43: =F43/12 -> 19621867
A44: FY 19-20 | B44: 2385673 | C44: 1.5862554e+08 | D44: 4347517.4 | E44: 1165853 | F44: =SUM(B44:E44) -> 1.6652458e+08 | G44: =F44/12 -> 13877048
A45: FY 20-21 | B45: 4431541 | C45: 1.0452931e+08 | D45: 3649698.8 | E45: 611828 | F45: =SUM(B45:E45) -> 1.1322238e+08 | G45: =F45/12 -> 9435198.1
A46: FY 21-22 | B46: 9248410 | C46: 1.9098206e+08 | D46: 5358171.6 | E46: 3437361 | F46: =SUM(B46:E46) -> 2.09026e+08 | G46: =F46/12 -> 17418833
A47: FY 22-23 Projected | B47: =(10484769/10)*12 -> 12581723 | C47: =(256284549.4/10)*12 -> 3.0754146e+08 | D47: =(1572608.97/10)*12 -> 1887130.8 | E47: =(1745043/10)*12 -> 2094051.6 | F47: =SUM(B47:E47) -> 3.2410436e+08 | G47: =F47/12 -> 27008697
B50: =SUM(B5:B49) -> 1.5534165e+09 | C50: =SUM(C5:C49) -> 1.4930631e+10 | D50: =SUM(D5:D49) -> 6.7835179e+08 | E50: =SUM(E5:E49) -> 1.9104184e+08 | F50: =SUM(F5:F49) -> 1.7353441e+10
A52: % of Total | B52: =B50/F50 -> 0.089516339 | C52: =C50/F50 -> 0.86038445 | D52: =D50/F50 -> 0.039090333 | E52: =E50/F50 -> 0.011008874

Sheet Historical Oil Production
A1: Historical Oil Production
B3: Barrels
A5: FY 82-83 | B5: 8781026.1
A6: FY 83-84 | B6: 8558474.4
A7: FY 84-85 | B7: 8730682
A8: FY 85-86 | B8: 8824976.2
A9: FY 86-87 | B9: 8377005.6
A10: FY 87-88 | B10: 7882985.1
A11: FY 88-89 | B11: 7423374.4
A12: FY 89-90 | B12: 6925936.6
A13: FY 90-91 | B13: 7131084.3
A14: FY 91-92 | B14: 7112144
A15: FY 92-93 | B15: 6782359.2
A16: FY 93-94 | B16: 6621211.6
... A28: FY 05-06 | B28: 2766634.7
A29: FY 06-07 | B29: =SUM('Disposition Month'!G60:G71) -> 4291643.9
A30: FY 07-08 | B30: =SUM('Disposition Month'!G72:G83) -> 4657678.4
A31: FY 08-09 | B31: =SUM('Disposition Month'!G84:G95) -> 3948092.4
A32: FY 09-10 | B32: =SUM('Disposition Month'!G96:G107) -> 3997797.6
A33: FY 10-11 | B33: =SUM('Disposition Month'!G108:G119) -> 3909954.2
A34: FY 11-12 | B34: =SUM('Disposition Month'!G120:G131) -> 3971829.1
A35: FY 12-13 | B35: =SUM('Disposition Month'!G132:G143) -> 3936345.8
A36: FY 13-14 | B36: =SUM('Disposition Month'!G144:G155) -> 3901947
A37: FY 14-15 | B37: =SUM('Disposition Month'!G156:G167) -> 3683982
A38: FY 15-16 | B38: =SUM('Disposition Month'!G168:G179) -> 3217265.7
A39: FY 16-17 | B39: =SUM('Disposition Month'!G180:G191) -> 2707846.1
A40: FY 17-18 | B40: =SUM('Disposition Month'!G192:G203) -> 2451229.6
A41: FY 18-19 | B41: =SUM('Disposition Month'!G204:G215) -> 2503024.1
A42: FY 19-20 | B42: =SUM('Disposition Month'!G216:G227) -> 2203128.3
A43: FY 20-21 | B43: =SUM('Disposition Month'!G228:G239) -> 1610387.5
A44: FY 21-22 | B44: =SUM('Disposition Month'!G240:G251) -> 1503158
A45: FY 22-23 Projected | B45: =(SUM('Disposition Month'!G252:G258)/7)*12 -> 1710063.3
B47: =SUM(B5:B46) -> 2.1516433e+08
A49: % of Total | B49: =B45/B47 -> 0.0079477083

Sheet Historical Gas Production
A1: Historical Gas Production
B3: MCF's
A5: FY 82-83 | B5: 94125368
A6: FY 83-84 | B6: 89454160
A7: FY 84-85 | B7: 84301670
A8: FY 85-86 | B8: 79934040
A9: FY 86-87 | B9: 78234139
A10: FY 87-88 | B10: 73532729
A11: FY 88-89 | B11: 67566288
A12: FY 89-90 | B12: 68771995
A13: FY 90-91 | B13: 63785078
A14: FY 91-92 | B14: 59265715
A15: FY 92-93 | B15: 59631387
A16: FY 93-94 | B16: 55353141
... A28: FY 05-06 | B28: 33179715
A29: FY 06-07 | B29: =SUM('Disposition Month'!G296:G307) -> 43470928
A30: FY 07-08 | B30: =SUM('Disposition Month'!G308:G319) -> 44928254
A31: FY 08-09 | B31: =SUM('Disposition Month'!G320:G331) -> 42165658
A32: FY 09-10 | B32: =SUM('Disposition Month'!G332:G343) -> 38444907
A33: FY 10-11 | B33: =SUM('Disposition Month'!G344:G355) -> 40420637
A34: FY 11-12 | B34: =SUM('Disposition Month'!G356:G367) -> 42700741
A35: FY 12-13 | B35: =SUM('Disposition Month'!G368:G379) -> 45282940
A36: FY 13-14 | B36: =SUM('Disposition Month'!G380:G391) -> 41097430
A37: FY 14-15 | B37: =SUM('Disposition Month'!G392:G403) -> 38310631
A38: FY 15-16 | B38: =SUM('Disposition Month'!G404:G415) -> 31746959
A39: FY 16-17 | B39: =SUM('Disposition Month'!G416:G427) -> 25124732
A40: FY 17-18 | B40: =SUM('Disposition Month'!G428:G439) -> 20887699
A41: FY 18-19 | B41: =SUM('Disposition Month'!G434:G445) -> 20624872
A42: FY 19-20 | B42: =SUM('Disposition Month'!G452:G463) -> 23614576
A43: FY 20-21 | B43: =SUM('Disposition Month'!G464:G475) -> 22308550
A44: FY 21-22 | B44: =SUM('Disposition Month'!G476:G487) -> 31399697
A45: FY 22-23 Projected | B45: =(SUM('Disposition Month'!G488:G494)/7)*12 -> 34537171
B47: =SUM(B5:B46) -> 2.0990128e+09
A49: % of Total | B49: =B45/B47 -> 0.016454007

Sheet Royalty Table
A1: Royalty Collections by Disposition Month
A4: Disposition Month | B4: Oil | C4: Gas | D4: Plant Products | E4: Total
A5: 44562 | B5: 9008524.2 | C5: 7501311.7 | D5: 609753.64 | E5: =SUM(B5:D5) -> 17119590
A6: 44593 | B6: 9183346.1 | C6: 8433379.4 | D6: 585055.65 | E6: =SUM(B6:D6) -> 18201781
A7: 44621 | B7: 12643933 | C7: 8222084.5 | D7: 918089.57 | E7: =SUM(B7:D7) -> 21784107
A8: 44652 | B8: 13500149 | C8: 10243940 | D8: 738342.19 | E8: =SUM(B8:D8) -> 24482431
A9: 44682 | B9: 14491566 | C9: 13651014 | D9: 726892.76 | E9: =SUM(B9:D9) -> 28869472
A10: 44713 | B10: 14512148 | C10: 15716558 | D10: 705567.35 | E10: =SUM(B10:D10) -> 30934273
A11: 44743 | B11: 13280084 | C11: 12435842 | D11: 623347.73 | E11: =SUM(B11:D11) -> 26339273
A12: 44774 | B12: 11807457 | C12: 14432161 | D12: 495786.41 | E12: =SUM(B12:D12) -> 26735405
A13: 44805 | B13: 10017922 | C13: 15309289 | D13: 460925.4 | E13: =SUM(B13:D13) -> 25788137
A14: 44835 | B14: 11758616 | C14: 11232368 | D14: 365660.79 | E14: =SUM(B14:D14) -> 23356645
A15: 44866 | B15: 10679349 | C15: 9407579.1 | D15: 335077.34 | E15: =SUM(B15:D15) -> 20422005
A16: 44896 | B16: 9425891.2 | C16: 10937689 | D16: 227857.89 | E16: =SUM(B16:D16) -> 20591438
A17: 44927 | B17: 9007442.9 | C17: 6480760.5 | D17: 266622.01 | E17: =SUM(B17:D17) -> 15754825
A18: Total | B18: =SUM(B5:B17) -> 1.4931643e+08 | C18: =SUM(C5:C17) -> 1.4400398e+08 | D18: =SUM(D5:D17) -> 7058978.7 | E18: =SUM(E5:E17) -> 3.0037938e+08
A20: % of Total | B20: =B18/$E$18 -> 0.4970928 | C20: =C18/$E$18 -> 0.47940699 | D20: =D18/$E$18 -> 0.02350021

Sheet Oil Volume Table
A1: Oil Volume by Disposition Month
A4: Disposition Month | B4: Barrels | D4: Disposition Month | E4: Barrels | G4: Disposition Month | H4: Barrels
A5: 37987 | B5: 439528.96 | D5: 40544 | E5: 289933.8 | G5: January 2018 | H5: 193288.07
A6: 38018 | B6: 352554.18 | D6: 40575 | E6: 300448.12 | G6: February 2018 | H6: 184618.69
A7: 38047 | B7: 388250.31 | D7: 40603 | E7: 350333.93 | G7: March 2018 | H7: 209936.45
A8: 38078 | B8: 371664.95 | D8: 40634 | E8: 324508.42 | G8: April 2018 | H8: 198536.06
A9: 38108 | B9: 376944.42 | D9: 40664 | E9: 325166.87 | G9: May 2018 | H9: 213489.78
A10: 38139 | B10: 364373.39 | D10: 40695 | E10: 313539.41 | G10: June 2018 | H10: 204276.39
A11: 38169 | B11: 373376.37 | D11: 40725 | E11: 317672.23 | G11: July 2018 | H11: 211596.19
A12: 38200 | B12: 374957.05 | D12: 40756 | E12: 344112.03 | G12: August 2018 | H12: 213971.55
A13: 38231 | B13: 252648.35 | D13: 40787 | E13: 297685.97 | G13: September 2018 | H13: 202712.54
A14: 38261 | B14: 294836.09 | D14: 40817 | E14: 346547.7 | G14: October 2018 | H14: 219731.03
A15: 38292 | B15: 306161.9 | D15: 40848 | E15: 339844.17 | G15: November 2018 | H15: 206233.24
A16: 38322 | B16: 325615.35 | D16: 40878 | E16: 351073.06 | G16: December 2018 | H16: 218649.99
... A26: 38626 | B26: 114538.45 | D26: 41183 | E26: 344344.08 | G26: October 2019 | H26: 203194.13
A27: 38657 | B27: 180921.9 | D27: 41214 | E27: 335227.4 | G27: 43770 | H27: 208068.03
A28: 38687 | B28: 197290.88 | D28: 41244 | E28: 352771.3 | G28: 43800 | H28: 204008.01
A29: 38718 | B29: 230553.14 | D29: 41275 | E29: 345022.84 | G29: 43831 | H29: 200716.74
A30: 38749 | B30: 221290.46 | D30: 41306 | E30: 311610.63 | G30: 43862 | H30: 180633.86
A31: 38777 | B31: 249233.35 | D31: 41334 | E31: 344201.78 | G31: 43891 | H31: 185906.07
A32: 38808 | B32: 283338.5 | D32: 41365 | E32: 328382.32 | G32: 43922 | H32: 157272.58
A33: 38838 | B33: 275598.76 | D33: 41395 | E33: 345619.08 | G33: 43952 | H33: 94223.931
A34: 38869 | B34: 300558.28 | D34: 41426 | E34: 337212.73 | G34: 43983 | H34: 175335.38
A35: 38899 | B35: 317273.17 | D35: 41456 | E35: 327400.15 | G35: 44013 | H35: 127142.51
A36: 38930 | B36: 336148.3 | D36: 41487 | E36: 357765.66 | G36: 44044 | H36: 129025.45
A37: 38961 | B37: 309714.8 | D37: 41518 | E37: 343390.46 | G37: 44075 | H37: 124303.33
A38: 38991 | B38: 358167.35 | D38: 41548 | E38: 328246.63 | G38: 44105 | H38: 115543.12
... A65: 39814 | B65: 335999.29 | D65: 42370 | E65: 238686.02 | G65: 44927 | H65: 136640.83
A66: 39845 | B66: 298096.23 | D66: 42401 | E66: 262215.23
A67: 39873 | B67: 343406.4 | D67: 42430 | E67: 277382.42
A68: 39904 | B68: 340943.82 | D68: 42461 | E68: 276079.36
A69: 39934 | B69: 346131.21 | D69: 42491 | E69: 267453.41
A70: 39965 | B70: 338470.93 | D70: 42522 | E70: 257808.68
A71: 39995 | B71: 337663.91 | D71: 42552 | E71: 255964.61
A72: 40026 | B72: 337300.83 | D72: 42583 | E72: 252356.73
A73: 40057 | B73: 347860.55 | D73: 42614 | E73: 238974.73
A74: 40087 | B74: 368418.33 | D74: 42644 | E74: 247490.85
A75: 40118 | B75: 319930.81 | D75: 42675 | E75: 208619.14
A76: 40148 | B76: 380201.66 | D76: 42705 | E76: 198985.11
A77: 40179 | B77: 306331.07 | D77: 42736 | E77: 228848.55
...

Sheet Gas Volume Table
A1: Gas Volume by Disposition Month
A4: Disposition Month | B4: MCF | D4: Disposition Month | E4: MCF | G4: Disposition Month | H4: MCF
A5: 37987 | B5: 4116851.7 | D5: 40544 | E5: 3457243.1 | G5: 43101 | H5: 1758610.7
A6: 38018 | B6: 3751396.4 | D6: 40575 | E6: 3223437.2 | G6: 43132 | H6: 1626096.3
A7: 38047 | B7: 3712684.7 | D7: 40603 | E7: 3762696.9 | G7: 43160 | H7: 1746944.9
A8: 38078 | B8: 4034822.5 | D8: 40634 | E8: 3672049.1 | G8: 43191 | H8: 1629049.7
A9: 38108 | B9: 3916088.3 | D9: 40664 | E9: 3481557.1 | G9: 43221 | H9: 1613532.5
A10: 38139 | B10: 3969900 | D10: 40695 | E10: 3352562.5 | G10: 43252 | H10: 1656576.3
A11: 38169 | B11: 4113654.6 | D11: 40725 | E11: 3517719.5 | G11: July 2018 | H11: 1772589.4
A12: 38200 | B12: 4039039.5 | D12: 40756 | E12: 3653274.2 | G12: August 2018 | H12: 1709126
A13: 38231 | B13: 3203047 | D13: 40787 | E13: 3283584.1 | G13: September 2018 | H13: 1687060.9
A14: 38261 | B14: 3557609.2 | D14: 40817 | E14: 3631482.1 | G14: October 2018 | H14: 1811674.1
A15: 38292 | B15: 3549434.2 | D15: 40848 | E15: 3589808.3 | G15: November 2018 | H15: 1782418.8
A16: 38322 | B16: 3331205.5 | D16: 40878 | E16: 3704364.9 | G16: December 2018 | H16: 1831192.1
A17: 38353 | B17: 3572292.8 | D17: 40909 | E17: 3617113.5 | G17: January 2019 | H17: 1870155.6
A18: 38384 | B18: 3179408.9 | D18: 40940 | E18: 3359105.7 | G18: February 2019 | H18: 1763422.7
A19: 38412 | B19: 3524675.4 | D19: 40969 | E19: 3628030.2 | G19: March 2019 | H19: 1983026.9
A20: 38443 | B20: 3373990 | D20: 41000 | E20: 3557143.2 | G20: April 2019 | H20: 1825057.5
A21: 38473 | B21: 3512440.5 | D21: 41030 | E21: 3600786.7 | G21: May 2019 | H21: 1868608.1
A22: 38504 | B22: 3396830.2 | D22: 41061 | E22: 3558328.4 | G22: June 2019 | H22: 1727743.4
... A26: 38626 | B26: 1403319.1 | D26: 41183 | E26: 3830897.5 | G26: October 2019 | H26: 2103776.4
A27: 38657 | B27: 2238950.7 | D27: 41214 | E27: 4019006.1 | G27: 43770 | H27: 2033840.1
A28: 38687 | B28: 2696395 | D28: 41244 | E28: 4127804.5 | G28: 43800 | H28: 2125499.2
A29: 38718 | B29: 2903605.5 | D29: 41275 | E29: 4105230.1 | G29: 43831 | H29: 2103275.3
A30: 38749 | B30: 2893564.1 | D30: 41306 | E30: 3532687.5 | G30: 43862 | H30: 1985643.3
A31: 38777 | B31: 3195937.9 | D31: 41334 | E31: 4020816.8 | G31: 43891 | H31: 2070357.6
A32: 38808 | B32: 3179013.9 | D32: 41365 | E32: 3533424.9 | G32: 43922 | H32: 1869720
A33: 38838 | B33: 3441908.5 | D33: 41395 | E33: 4076019.2 | G33: 43952 | H33: 1688187
A34: 38869 | B34: 3675130 | D34: 41426 | E34: 3595453 | G34: 43983 | H34: 1559977.8
A35: 38899 | B35: 3681560.9 | D35: 41456 | E35: 3744606.3 | G35: 44013 | H35: 1631381.9
A36: 38930 | B36: 3612949.8 | D36: 41487 | E36: 3614393.4 | G36: 44044 | H36: 1249053.9
A37: 38961 | B37: 3543892.1 | D37: 41518 | E37: 3679296.9 | G37: 44075 | H37: 1321842.9
A38: 38991 | B38: 3570670.7 | D38: 41548 | E38: 3365870.6 | G38: 44105 | H38: 1345844.8
... A65: 39814 | B65: 3438444.2 | D65: 42370 | E65: 2595659 | G65: 44927 | H65: 1764152.9
A66: 39845 | B66: 3579269.6 | D66: 42401 | E66: 2404903.1
A67: 39873 | B67: 3520944.6 | D67: 42430 | E67: 2501164.1
A68: 39904 | B68: 3511917 | D68: 42461 | E68: 2354097
A69: 39934 | B69: 3769963.6 | D69: 42491 | E69: 2513416.4
A70: 39965 | B70: 3351008.7 | D70: 42522 | E70: 2393687
A71: 39995 | B71: 4357713.7 | D71: 42552 | E71: 2423122.7
...

Sheet Lease Sale Table
A1: Department of Natural Resources
A2: Office of Mineral Resources
A3: Lease Sale Statistics
A4: For Calendar Years 2006, 2007, 2008, 2009, 2010, 2011, 2012, 2013, 2014, 2015, 2016, 2017, 2018, 2019, 2020, 2021, 2022 and 2023
B6: Month | C6: No. of Tracts Nominated | D6: No. of Acres Nominated | E6: No. of Tracts with Bids | F6: % of Nominated Tracts with Bids | G6: No. of Leases | H6: No. of Acres Leased | I6: Total Bonuses | J6: Price Per Acre | L6: Month | M6: No. of Tracts Nominated | N6: No. of Acres Nominated | O6: No. of Tracts with Bids | P6: % of Nominated Tracts with Bids | Q6: No. of Leases | R6: No. of Acres Leased | S6: Total Bonuses | T6: Price Per Acre | V6: Month | W6: No. of Tracts Nominated | X6: No. of Acres Nominated | Y6: No. of Tracts with Bids | Z6: % of Nominated Tracts with Bids | AA6: No. of Leases | AB6: No. of Acres Leased | AC6: Total Bonuses | AD6: Price Per Acre
B7: 37987 | C7: 80 | D7: 102312.99 | E7: 24 | F7: =E7/C7 -> 0.3 | G7: 21 | H7: 4054.333 | I7: 1209755.9 | J7: =I7/H7 -> 298.38594
B8: 38018 | C8: =189-C7 -> 109 | D8: 132831.11 | E8: 36 | F8: =E8/C8 -> 0.33027523 | G8: 33 | H8: 13638.395 | I8: 4170405.5 | J8: =I8/H8 -> 305.78418
B9: 38047 | C9: =273-189 -> 84 | D9: 126328.26 | E9: 35 | F9: =E9/C9 -> 0.41666667 | G9: 37 | H9: 13838.581 | I9: 2773809.6 | J9: =I9/H9 -> 200.44032
B10: 38078 | C10: =294-273 -> 21 | D10: 27689.52 | E10: 9 | F10: =E10/C10 -> 0.42857143 | G10: 9 | H10: 2540.44 | I10: 686310.01 | J10: =I10/H10 -> 270.15399
B11: 38108 | C11: =366-294 -> 72 | D11: 96587.86 | E11: 28 | F11: =E11/C11 -> 0.38888889 | G11: 31 | H11: 14771.108 | I11: 3741030.8 | J11: =I11/H11 -> 253.26677
B12: 38139 | C12: =467-366 -> 101 | D12: 124977.28 | E12: 25 | F12: =E12/C12 -> 0.24752475 | G12: 24 | H12: 5544.19 | I12: 1942833.5 | J12: =I12/H12 -> 350.42694
B13: 38169 | C13: =578-467 -> 111 | D13: 140323.89 | E13: 31 | F13: =E13/C13 -> 0.27927928 | G13: 32 | H13: 5817.56 | I13: 2044652.4 | J13: =I13/H13 -> 351.46219
B14: 38200 | C14: =628-578 -> 50 | D14: 43044.913 | E14: 26 | F14: =E14/C14 -> 0.52 | G14: 27 | H14: 6881.453 | I14: 1989653.5 | J14: =I14/H14 -> 289.13276
B15: 38231 | C15: =778-628 -> 150 | D15: 225055.04 | E15: 43 | F15: =E15/C15 -> 0.28666667 | G15: 48 | H15: 10518.291 | I15: 3193258.7 | J15: =I15/H15 -> 303.59102
B16: 38261 | C16: =914-778 -> 136 | D16: 199371.38 | E16: 56 | F16: =E16/C16 -> 0.41176471 | G16: 75 | H16: 16777.064 | I16: 8518107.6 | J16: =I16/H16 -> 507.72338
B17: 38292 | C17: =988-914 -> 74 | D17: 81727.593 | E17: 30 | F17: =E17/C17 -> 0.40540541 | G17: 33 | H17: 8058.373 | I17: 1842154.7 | J17: =I17/H17 -> 228.60132
B18: 38322 | C18: 72 | D18: 47855.304 | E18: 30 | F18: =E18/C18 -> 0.41666667 | G18: 32 | H18: 3481.174 | I18: 952899.45 | J18: =I18/H18 -> 273.72934
B19: 38353 | C19: =640-593 -> 47 | D19: 28880.06 | E19: =47-(401-377) -> 23 | F19: =E19/C19 -> 0.4893617 | G19: 24 | H19: 3472.91 | I19: 1118950.3 | J19: =I19/H19 -> 322.19386
B20: 38384 | C20: =186-47 -> 139 | D20: 155224.53 | E20: 50 | F20: =E20/C20 -> 0.35971223 | G20: 54 | H20: 15760.712 | I20: =5701671.68 -> 5701671.7 | J20: =I20/H20 -> 361.76485
B21: 38412 | C21: =250-C20-C19 -> 64 | D21: 68473.92 | E21: 17 | F21: =E21/C21 -> 0.265625 | G21: 18 | H21: 9143.27 | I21: 2990636 | J21: =I21/H21 -> 327.08604
B22: 38443 | C22: =296-250 -> 46 | D22: 50416.84 | E22: 26 | F22: =E22/C22 -> 0.56521739 | G22: 30 | H22: 9349.02 | I22: 3480941.1 | J22: =I22/H22 -> 372.33219
B23: 38473 | C23: 95 | D23: 115385.35 | E23: 43 | F23: =E23/C23 -> 0.45263158 | G23: 47 | H23: 10719.221 | I23: 5311157.8 | J23: =I23/H23 -> 495.47983
B24: 38504 | C24: 94 | D24: 123785.14 | E24: 42 | F24: =E24/C24 -> 0.44680851 | G24: 42 | H24: 8891.85 | I24: 2703889.3 | J24: =I24/H24 -> 304.08625
B25: 38534 | C25: 148 | D25: 152777.69 | E25: =256-204 -> 52 | F25: =E25/C25 -> 0.35135135 | G25: 52 | H25: 12760.26 | I25: 4650705.1 | J25: =I25/H25 -> 364.46789
B26: 38565 | C26: 112 | D26: 165294.17 | E26: =292-253 -> 39 | F26: =E26/C26 -> 0.34821429 | G26: 40 | H26: 5431.63 | I26: 1836091.9 | J26: =I26/H26 -> 338.03699
B27: 38596 | C27: 110 | D27: 125382.28 | E27: =334-292 -> 42 | F27: =E27/C27 -> 0.38181818 | G27: 42 | H27: 17996.14 | I27: 5604577.6 | J27: =I27/H27 -> 311.43221
B28: 38626 | C28: 36 | D28: 19207.59 | E28: =365-334 -> 31 | F28: =E28/C28 -> 0.86111111 | G28: 31 | H28: 5577.8 | I28: 1324037 | J28: =I28/H28 -> 237.37621
B29: 38657 | C29: 58 | D29: 50384.311 | E29: =58-(560-526) -> 24 | F29: =E29/C29 -> 0.4137931 | G29: 24 | H29: 4484.061 | I29: 1612996.9 | J29: =I29/H29 -> 359.71789
B30: 38687 | C30: 75 | D30: 88898.39 | E30: 28 | F30: =E30/C30 -> 0.37333333 | G30: 33 | H30: 8547.41 | I30: 4024433.6 | J30: =I30/H30 -> 470.83662
B31: 39083 | C31: 44 | D31: 43615.048 | E31: 23 | F31: =E31/C31 -> 0.52272727 | G31: 22 | H31: 8504.439 | I31: 4569069.4 | J31: =I31/H31 -> 537.257 | L31: 41640 | M31: 58 | N31: 76542.25 | O31: 20 | P31: =O31/M31 -> 0.34482759 | Q31: 21 | R31: 2332.27 | S31: 816900.26 | T31: =S31/R31 -> 350.25973 | V31: 44197 | W31: 8 | X31: 3563.8 | Y31: 4 | Z31: =Y31/W31 -> 0.5 | AA31: 3 | AB31: 421.686 | AC31: 452324.7 | AD31: =AC31/AB31 -> 1072.6576
B32: 39114 | C32: 61 | D32: 68927.865 | E32: 36 | F32: =E32/C32 -> 0.59016393 | G32: 39 | H32: 10701.885 | I32: 11078923 | J32: =I32/H32 -> 1035.231 | L32: 41671 | M32: 44 | N32: 63234.475 | O32: 17 | P32: =O32/M32 -> 0.38636364 | Q32: 20 | R32: 3010.545 | S32: 1106094.4 | T32: =S32/R32 -> 367.4067 | V32: 44228 | W32: 5 | X32: 163.502 | Y32: 4 | Z32: =Y32/W32 -> 0.8 | AA32: 4 | AB32: 144.502 | AC32: 214921.17 | AD32: =AC32/AB32 -> 1487.3232
B33: 39142 | C33: 37 | D33: 55261.795 | E33: 19 | F33: =E33/C33 -> 0.51351351 | G33: 23 | H33: 5996.295 | I33: 2567201.3 | J33: =I33/H33 -> 428.13126 | L33: 41699 | M33: 40 | N33: 57073.247 | O33: 13 | P33: =O33/M33 -> 0.325 | Q33: 9 | R33: 2513.417 | S33: 769753.95 | T33: =S33/R33 -> 306.25795 | V33: 44256 | W33: 5 | X33: 953.83 | Y33: 3 | Z33: =Y33/W33 -> 0.6 | AA33: 3 | AB33: 68.388 | AC33: 92402 | AD33: =AC33/AB33 -> 1351.1435
B34: 39173 | C34: 58 | D34: 60473.27 | E34: 22 | F34: =E34/C34 -> 0.37931034 | G34: 24 | H34: 10087.12 | I34: 3250525.9 | J34: =I34/H34 -> 322.24519 | L34: 41730 | M34: 44 | N34: 29698.25 | O34: 33 | P34: =O34/M34 -> 0.75 | Q34: 32 | R34: 3851.83 | S34: 1871963.6 | T34: =S34/R34 -> 485.9933 | V34: 44287 | W34: 17 | X34: 21888.083 | Y34: 8 | Z34: =Y34/W34 -> 0.47058824 | AA34: 8 | AB34: 2541.859 | AC34: 1660256.1 | AD34: =AC34/AB34 -> 653.16609
B35: 39203 | C35: 77 | D35: 67181.82 | E35: 40 | F35: =E35/C35 -> 0.51948052 | G35: 44 | H35: 6303.81 | I35: 4844311.6 | J35: =I35/H35 -> 768.47361 | L35: 41760 | M35: 51 | N35: 31101.126 | O35: 21 | P35: =O35/M35 -> 0.41176471 | Q35: 12 | R35: 1817.69 | S35: 580974.12 | T35: =S35/R35 -> 319.62222 | V35: 44317 | W35: 6 | X35: 1887.8 | Y35: 3 | Z35: =Y35/W35 -> 0.5 | AA35: 3 | AB35: 351.8 | AC35: 278950 | AD35: =AC35/AB35 -> 792.92211
B36: 39234 | C36: 99 | D36: 159363.2 | E36: 31 | F36: =E36/C36 -> 0.31313131 | G36: 31 | H36: 8098.128 | I36: 4008594.4 | J36: =I36/H36 -> 495.0026 | L36: 41791 | M36: 45 | N36: 51466.26 | O36: 10 | P36: =O36/M36 -> 0.22222222 | Q36: 10 | R36: 3479.169 | S36: 1138394.1 | T36: =S36/R36 -> 327.20288 | V36: 44348 | W36: 11 | X36: 59897.759 | Y36: 5 | Z36: =Y36/W36 -> 0.45454545 | AA36: 5 | AB36: 967.789 | AC36: 728314.5 | AD36: =AC36/AB36 -> 752.55505
B37: 39264 | C37: 90 | D37: 87101.8 | E37: 25 | F37: =E37/C37 -> 0.27777778 | G37: 27 | H37: 8524.27 | I37: 2529957.4 | J37: =I37/H37 -> 296.79461 | L37: 41821 | M37: 39 | N37: 62867.24 | O37: 14 | P37: =O37/M37 -> 0.35897436 | Q37: 15 | R37: 7561.4 | S37: 1512670.9 | T37: =S37/R37 -> 200.0517 | V37: 44409 | W37: 14 | X37: 18125.862 | Y37: 6 | Z37: =Y37/W37 -> 0.42857143 | AA37: 6 | AB37: 1494.872 | AC37: 580734.8 | AD37: =AC37/AB37 -> 388.48463
B38: 39295 | C38: 83 | D38: 112945.77 | E38: 29 | F38: =E38/C38 -> 0.34939759 | G38: 28 | H38: 10786.901 | I38: 2892575.3 | J38: =I38/H38 -> 268.15628 | L38: 41852 | M38: 35 | N38: 24438.69 | O38: 21 | P38: =O38/M38 -> 0.6 | Q38: 27 | R38: 3036.255 | S38: 997895.9 | T38: =S38/R38 -> 328.66011 | V38: 44440 | W38: 13 | X38: 2920.874 | Y38: 8 | Z38: =Y38/W38 -> 0.61538462 | AA38: 8 | AB38: 326.944 | AC38: 538221.25 | AD38: =AC38/AB38 -> 1646.2185
B39: 39326 | C39: 45 | D39: 34768.7 | E39: 14 | F39: =E39/C39 -> 0.31111111 | G39: 14 | H39: 3083.3 | I39: 1936243 | J39: =I39/H39 -> 627.97749 | L39: 41883 | M39: 29 | N39: 46708.56 | O39: 8 | P39: =O39/M39 -> 0.27586207 | Q39: 6 | R39: 1733.42 | S39: 663723.3 | T39: =S39/R39 -> 382.89814 | V39: 44470 | W39: 11 | X39: 2464 | Y39: 2 | Z39: =Y39/W39 -> 0.18181818 | AA39: 3 | AB39: 228 | AC39: 46056 | AD39: =AC39/AB39 -> 202
B40: 39356 | C40: 47 | D40: 41694.079 | E40: 16 | F40: =E40/C40 -> 0.34042553 | G40: 18 | H40: 5381.189 | I40: 6035465.7 | J40: =I40/H40 -> 1121.5859 | L40: 41913 | M40: 13 | N40: 12488.72 | O40: 11 | P40: =O40/M40 -> 0.84615385 | Q40: 10 | R40: 2962.67 | S40: 1196508.2 | T40: =S40/R40 -> 403.86146 | V40: 44501 | W40: 6 | X40: 5609.47 | Y40: 2 | Z40: =Y40/W40 -> 0.33333333 | AA40: 1 | AB40: 35.1 | AC40: 13338 | AD40: =AC40/AB40 -> 380
B41: 39387 | C41: 43 | D41: 38583.24 | E41: 22 | F41: =E41/C41 -> 0.51162791 | G41: 19 | H41: 3024.469 | I41: 1171854.9 | J41: =I41/H41 -> 387.45808 | L41: 41944 | M41: 7 | N41: 5624.23 | O41: 4 | P41: =O41/M41 -> 0.57142857 | Q41: 4 | R41: 392.23 | S41: 69330.15 | T41: =S41/R41 -> 176.75892 | V41: 44531 | W41: 8 | X41: 11912.58 | Y41: 3 | Z41: =Y41/W41 -> 0.375 | AA41: 3 | AB41: 316 | AC41: 403246 | AD41: =AC41/AB41 -> 1276.0949
...

Sheet Leased Acres Table
A1: State Acreage Under Lease
A3: Month/Year | B3: Acreage | D3: Month/Year | E3: Acreage | G3: Month/Year | H3: Acreage
A4: 37987 | B4: 970647 | D4: 40544 | E4: 832686 | G4: 43101 | H4: 534124
A5: 38018 | B5: 970566 | D5: 40575 | E5: 830312 | G5: 43132 | H5: 533258
A6: 38047 | B6: 973551 | D6: 40603 | E6: 841244 | G6: 43160 | H6: 532400
A7: 38078 | B7: 967958 | D7: 40634 | E7: 835606 | G7: 43191 | H7: 529157
A8: 38108 | B8: 974311 | D8: 40664 | E8: 838805 | G8: 43221 | H8: 527308
A9: 38139 | B9: 978972 | D9: 40695 | E9: 837030 | G9: 43252 | H9: 526891
A10: 38169 | B10: 977175 | D10: 40725 | E10: 840695 | G10: 43282 | H10: 526976
A11: 38200 | B11: 979727 | D11: 40756 | E11: 827487 | G11: 43313 | H11: =+(H10+H12)/2 -> 520487.5
A12: 38231 | B12: 981595 | D12: 40787 | E12: 838284 | G12: 43344 | H12: 513999
A13: 38261 | B13: 981936 | D13: 40817 | E13: 841468 | G13: 43374 | H13: 513874
A14: 38292 | B14: 983547 | D14: 40848 | E14: 842874 | G14: 43405 | H14: 504900
A15: 38322 | B15: 982793 | D15: 40878 | E15: 850934 | G15: 43435 | H15: 505962
A16: 38353 | B16: 977687 | D16: 40909 | E16: 850672 | G16: 43466 | H16: 507070
A17: 38384 | B17: 987060 | D17: 40940 | E17: 848663 | G17: 43497 | H17: 513433
A18: 38412 | B18: 989296 | D18: 40969 | E18: 844908 | G18: 43525 | H18: 512175
A19: 38443 | B19: 985526 | D19: 41000 | E19: 841755 | G19: 43556 | H19: 491974
A20: 38473 | B20: 986287 | D20: 41030 | E20: 851404 | G20: 43586 | H20: 489509
A21: 38504 | B21: 984084 | D21: 41061 | E21: 853371 | G21: 43617 | H21: 488975
A22: 38534 | B22: 991395 | D22: 41091 | E22: 848353 | G22: 43647 | H22: 488364
A23: 38565 | B23: 993569 | D23: 41122 | E23: 843802 | G23: 43678 | H23: 485281
... A28: 38718 | B28: 997605 | D28: 41275 | E28: 838989 | G28: 43831 | H28: 477544
A29: 38749 | B29: 1012059 | D29: 41306 | E29: 840990 | G29: February 2020 | H29: 471405
A30: 38777 | B30: 1010201 | D30: 41334 | E30: 834173 | G30: March 2020 | H30: 470743 | K30: Jan | L30: Feb | M30: March | N30: April | O30: May | P30: June | Q30: July | R30: Aug | S30: Sept | T30: Oct | U30: Nov | V30: Dec | W30: Total
A31: 38808 | B31: 1014111 | D31: 41365 | E31: 800284 | G31: April 2020 | H31: 469376 | J31: 2004 | K31: 970647 | L31: 970566 | M31: 973551 | N31: 967958 | O31: 974311 | P31: 978972 | Q31: 977175 | R31: 979727 | S31: 981595 | T31: 981936 | U31: 983547 | V31: 982793 | W31: =SUM(K31:V31) -> 11722778
A32: 38838 | B32: 1019784 | D32: 41395 | E32: 793150 | G32: May 2020 | H32: 468457 | J32: 2005 | K32: 977687 | L32: 987060 | M32: 989296 | N32: 985526 | O32: 986287 | P32: 984084 | Q32: 991395 | R32: 993569 | S32: 999285 | T32: 1001031 | U32: 999714 | V32: 1000881 | W32: =SUM(K32:V32) -> 11895815
A33: 38869 | B33: 1007301 | D33: 41426 | E33: 785111 | G33: June 2020 | H33: 468516 | J33: 2006 | K33: 997605 | L33: 1012059 | M33: 1010201 | N33: 1014111 | O33: 1019784 | P33: 1007301 | Q33: 1005887 | R33: 1015199 | S33: 1011473 | T33: 1016921 | U33: 1023932 | V33: 1022243 | W33: =SUM(K33:V33) -> 12156716
A34: 38899 | B34: 1005887 | D34: 41456 | E34: 769501 | G34: July 2020 | H34: 465801 | J34: 2007 | K34: 1028925 | L34: 1036953 | M34: 1021053 | N34: 1020861 | O34: 1015199 | P34: 1011179 | Q34: 1005474 | R34: 1010699 | S34: 1007599 | T34: 1004799 | U34: 998681 | V34: 1000171 | W34: =SUM(K34:V34) -> 12161593
A35: 38930 | B35: 1015199 | D35: 41487 | E35: 768105 | G35: August 2020 | H35: 465154 | J35: 2008 | K35: 1004555 | L35: 996060 | M35: 1007716 | N35: 997694 | O35: 987990 | P35: 983981 | Q35: 971662 | R35: 971764 | S35: 956861 | T35: 979642 | U35: 978571 | V35: 980177 | W35: =SUM(K35:V35) -> 11816673
A36: 38961 | B36: 1011473 | D36: 41518 | E36: 778148 | G36: September 2020 | H36: 468108 | J36: 2009 | K36: 975858 | L36: 968268 | M36: 965586 | N36: 956319 | O36: 958778 | P36: 944169 | Q36: 932690 | R36: 920007 | S36: 904586 | T36: 895792 | U36: 892551 | V36: 895270 | W36: =SUM(K36:V36) -> 11209874
A37: 38991 | B37: 1016921 | D37: 41548 | E37: 776915 | G37: October 2020 | H37: 466686 | J37: 2010 | K37: 895294 | L37: 890479 | M37: 873504 | N37: 847680 | O37: 847259 | P37: 840614 | Q37: 837713 | R37: 840595 | S37: 839384 | T37: 834736 | U37: 831990 | V37: 830109 | W37: =SUM(K37:V37) -> 10209357
A38: 39022 | B38: 1023932 | D38: 41579 | E38: 774080 | G38: November 2020 | H38: 468771 | J38: 2011 | K38: 832686 | L38: 830312 | M38: 841244 | N38: 835606 | O38: 838805 | P38: 837030 | Q38: 840695 | R38: 827487 | S38: 838284 | T38: 841468 | U38: 842874 | V38: 850934 | W38: =SUM(K38:V38) -> 10057425
A39: 39052 | B39: 1022243 | D39: 41609 | E39: 763086 | G39: December 2020 | H39: 464206 | J39: 2012 | K39: 850672 | L39: 848663 | M39: 844908 | N39: 841755 | O39: 851404 | P39: 853371 | Q39: 848353 | R39: 843802 | S39: 847588 | T39: 841248 | U39: 840722 | V39: 842195 | W39: =SUM(K39:V39) -> 10154681
A40: 39083 | B40: 1028925 | D40: 41640 | E40: 762382 | G40: January 2021 | H40: 465621 | J40: 2013 | K40: 838989 | L40: 840990 | M40: 834173 | N40: 800284 | O40: 793150 | P40: 785111 | Q40: 769501 | R40: 768105 | S40: 778148 | T40: 776915 | U40: 774080 | V40: 763086 | W40: =SUM(K40:V40) -> 9522532
A41: 39114 | B41: 1036953 | D41: 41671 | E41: 759000 | G41: February 2021 | H41: 465952 | J41: 2014 | K41: 762382 | L41: 759000 | M41: 758000 | N41: 753000 | O41: 749000 | P41: 750664 | Q41: 739194 | R41: 736599 | S41: 732328 | T41: 728939 | U41: 728599 | V41: 727950 | W41: =SUM(K41:V41) -> 8925655
A42: 39142 | B42: 1021053 | D42: 41699 | E42: 758000 | G42: March 2021 | H42: 466083 | J42: 2015 | K42: 732483 | L42: 729609 | M42: 720434 | N42: 714920 | O42: 707270 | P42: 704471 | Q42: 694035 | R42: 692190 | S42: 690971 | T42: 675326 | U42: 774080 | V42: 639381 | W42: =SUM(K42:V42) -> 8475170
... A49: 39356 | B49: 1004799 | D49: 41913 | E49: 728939 | G49: October 2021 | H49: 460640 | J49: 2022 | K49: 453728 | L49: 451588 | M49: 449613 | N49: 448900 | O49: 443568 | P49: 443804 | Q49: 443558 | R49: 445972 | S49: 445707 | T49: 443272 | U49: 424828 | V49: 424982 | W49: =SUM(K49:V49) -> 5319520
A50: 39387 | B50: 998681 | D50: 41944 | E50: 728599 | G50: November 2021 | H50: 459862 | J50: 2023 | K50: 424983 | L50: 424774 | M50: 425678 | N50: 424888
A51: 39417 | B51: 1000171 | D51: 41974 | E51: 727950 | G51: December 2021 | H51: 457783
...

Sheet Productive Acres Table 
A1: Productive Acres
A3: Month/Year | B3: Acres
A4: 44652 | B4: 261414
A5: 44682 | B5: 261205
A6: 44713 | B6: 260198
A7: 44743 | B7: 258100
A8: 44774 | B8: 259797
A9: 44805 | B9: 258873
A10: 44835 | B10: 257881
A11: 44866 | B11: 251452
A12: 44896 | B12: 251880
A13: 44927 | B13: 252958
A14: 44958 | B14: 253326
A15: 44986 | B15: 253391
A16: 45017 | B16: 253391

Sheet Lease Sale Table 2
A1: Department of Natural Resources
A2: Office of Mineral Resources
A3: Lease Sale Statistics
A4: For Calendar Years 2006, 2007, 2008, 2009, 2010, 2011, 2012, 2013, 2014, 2015, 2016, 2017, 2018, 2019, 2020, 2021, 2022 and 2023
A6: Month | B6: No. of Tracts Nominated | C6: No. of Acres Nominated | D6: No. of Tracts with Bids | E6: % of Nominated Tracts with Bids | F6: No. of Leases | G6: No. of Acres Leased | H6: Total Bonuses | I6: Price Per Acre
A7: 37987 | B7: 80 | C7: 102312.99 | D7: 24 | E7: =D7/B7 -> 0.3 | F7: 21 | G7: 4054.333 | H7: 1209755.9 | I7: =H7/G7 -> 298.38594
A8: 38018 | B8: =189-B7 -> 109 | C8: 132831.11 | D8: 36 | E8: =D8/B8 -> 0.33027523 | F8: 33 | G8: 13638.395 | H8: 4170405.5 | I8: =H8/G8 -> 305.78418
A9: 38047 | B9: =273-189 -> 84 | C9: 126328.26 | D9: 35 | E9: =D9/B9 -> 0.41666667 | F9: 37 | G9: 13838.581 | H9: 2773809.6 | I9: =H9/G9 -> 200.44032
A10: 38078 | B10: =294-273 -> 21 | C10: 27689.52 | D10: 9 | E10: =D10/B10 -> 0.42857143 | F10: 9 | G10: 2540.44 | H10: 686310.01 | I10: =H10/G10 -> 270.15399
A11: 38108 | B11: =366-294 -> 72 | C11: 96587.86 | D11: 28 | E11: =D11/B11 -> 0.38888889 | F11: 31 | G11: 14771.108 | H11: 3741030.8 | I11: =H11/G11 -> 253.26677
A12: 38139 | B12: =467-366 -> 101 | C12: 124977.28 | D12: 25 | E12: =D12/B12 -> 0.24752475 | F12: 24 | G12: 5544.19 | H12: 1942833.5 | I12: =H12/G12 -> 350.42694
A13: 38169 | B13: =578-467 -> 111 | C13: 140323.89 | D13: 31 | E13: =D13/B13 -> 0.27927928 | F13: 32 | G13: 5817.56 | H13: 2044652.4 | I13: =H13/G13 -> 351.46219
A14: 38200 | B14: =628-578 -> 50 | C14: 43044.913 | D14: 26 | E14: =D14/B14 -> 0.52 | F14: 27 | G14: 6881.453 | H14: 1989653.5 | I14: =H14/G14 -> 289.13276
A15: 38231 | B15: =778-628 -> 150 | C15: 225055.04 | D15: 43 | E15: =D15/B15 -> 0.28666667 | F15: 48 | G15: 10518.291 | H15: 3193258.7 | I15: =H15/G15 -> 303.59102
A16: 38261 | B16: =914-778 -> 136 | C16: 199371.38 | D16: 56 | E16: =D16/B16 -> 0.41176471 | F16: 75 | G16: 16777.064 | H16: 8518107.6 | I16: =H16/G16 -> 507.72338
A17: 38292 | B17: =988-914 -> 74 | C17: 81727.593 | D17: 30 | E17: =D17/B17 -> 0.40540541 | F17: 33 | G17: 8058.373 | H17: 1842154.7 | I17: =H17/G17 -> 228.60132
A18: 38322 | B18: 72 | C18: 47855.304 | D18: 30 | E18: =D18/B18 -> 0.41666667 | F18: 32 | G18: 3481.174 | H18: 952899.45 | I18: =H18/G18 -> 273.72934
A19: 38353 | B19: =640-593 -> 47 | C19: 28880.06 | D19: =47-(401-377) -> 23 | E19: =D19/B19 -> 0.4893617 | F19: 24 | G19: 3472.91 | H19: 1118950.3 | I19: =H19/G19 -> 322.19386
A20: 38384 | B20: =186-47 -> 139 | C20: 155224.53 | D20: 50 | E20: =D20/B20 -> 0.35971223 | F20: 54 | G20: 15760.712 | H20: =5701671.68 -> 5701671.7 | I20: =H20/G20 -> 361.76485
A21: 38412 | B21: =250-B20-B19 -> 64 | C21: 68473.92 | D21: 17 | E21: =D21/B21 -> 0.265625 | F21: 18 | G21: 9143.27 | H21: 2990636 | I21: =H21/G21 -> 327.08604
A22: 38443 | B22: =296-250 -> 46 | C22: 50416.84 | D22: 26 | E22: =D22/B22 -> 0.56521739 | F22: 30 | G22: 9349.02 | H22: 3480941.1 | I22: =H22/G22 -> 372.33219
A23: 38473 | B23: 95 | C23: 115385.35 | D23: 43 | E23: =D23/B23 -> 0.45263158 | F23: 47 | G23: 10719.221 | H23: 5311157.8 | I23: =H23/G23 -> 495.47983
A24: 38504 | B24: 94 | C24: 123785.14 | D24: 42 | E24: =D24/B24 -> 0.44680851 | F24: 42 | G24: 8891.85 | H24: 2703889.3 | I24: =H24/G24 -> 304.08625
A25: 38534 | B25: 148 | C25: 152777.69 | D25: =256-204 -> 52 | E25: =D25/B25 -> 0.35135135 | F25: 52 | G25: 12760.26 | H25: 4650705.1 | I25: =H25/G25 -> 364.46789
A26: 38565 | B26: 112 | C26: 165294.17 | D26: =292-253 -> 39 | E26: =D26/B26 -> 0.34821429 | F26: 40 | G26: 5431.63 | H26: 1836091.9 | I26: =H26/G26 -> 338.03699
A27: 38596 | B27: 110 | C27: 125382.28 | D27: =334-292 -> 42 | E27: =D27/B27 -> 0.38181818 | F27: 42 | G27: 17996.14 | H27: 5604577.6 | I27: =H27/G27 -> 311.43221
A28: 38626 | B28: 36 | C28: 19207.59 | D28: =365-334 -> 31 | E28: =D28/B28 -> 0.86111111 | F28: 31 | G28: 5577.8 | H28: 1324037 | I28: =H28/G28 -> 237.37621
A29: 38657 | B29: 58 | C29: 50384.311 | D29: =58-(560-526) -> 24 | E29: =D29/B29 -> 0.4137931 | F29: 24 | G29: 4484.061 | H29: 1612996.9 | I29: =H29/G29 -> 359.71789
A30: 38687 | B30: 75 | C30: 88898.39 | D30: 28 | E30: =D30/B30 -> 0.37333333 | F30: 33 | G30: 8547.41 | H30: 4024433.6 | I30: =H30/G30 -> 470.83662
A31: 38718 | B31: 47 | C31: 47043.313 | D31: 23 | E31: =D31/B31 -> 0.4893617 | F31: 26 | G31: 4329.743 | H31: 1537320.4 | I31: =H31/G31 -> 355.06043
A32: 38749 | B32: 30 | C32: 27775.39 | D32: 22 | E32: =D32/B32 -> 0.73333333 | F32: 21 | G32: 4893.65 | H32: 2259041.2 | I32: =H32/G32 -> 461.62706
A33: 38777 | B33: 90 | C33: 102468.21 | D33: 33 | E33: =D33/B33 -> 0.36666667 | F33: 35 | G33: 11677.774 | H33: 4813881.3 | I33: =H33/G33 -> 412.22593
A34: 38808 | B34: 68 | C34: 71781.41 | D34: 28 | E34: =D34/B34 -> 0.41176471 | F34: 30 | G34: 6467.852 | H34: 3141523.2 | I34: =H34/G34 -> 485.71353
A35: 38838 | B35: 97 | C35: 120198.4 | D35: 35 | E35: =D35/B35 -> 0.36082474 | F35: 31 | G35: 16817.78 | H35: 6025370 | I35: =H35/G35 -> 358.2738
A36: 38869 | B36: 38 | C36: 31183.565 | D36: 23 | E36: =D36/B36 -> 0.60526316 | F36: 21 | G36: 3267.685 | H36: 890923.62 | I36: =H36/G36 -> 272.64673
A37: 38899 | B37: 46 | C37: 61199.576 | D37: 17 | E37: =D37/B37 -> 0.36956522 | F37: 19 | G37: 4912.022 | H37: 1590293.2 | I37: =H37/G37 -> 323.75531
A38: 38930 | B38: 98 | C38: 144142.11 | D38: 37 | E38: =D38/B38 -> 0.37755102 | F38: 47 | G38: 11769.25 | H38: 4274006.8 | I38: =H38/G38 -> 363.15031
A39: 38961 | B39: 48 | C39: 44760.88 | D39: 26 | E39: =D39/B39 -> 0.54166667 | F39: 23 | G39: 5029.74 | H39: 2004961.5 | I39: =H39/G39 -> 398.6213
A40: 38991 | B40: 53 | C40: 36007.87 | D40: 28 | E40: =D40/B40 -> 0.52830189 | F40: 28 | G40: 4383.7 | H40: 1846724.8 | I40: =H40/G40 -> 421.27081
A41: 39022 | B41: 93 | C41: 84329.325 | D41: 43 | E41: =D41/B41 -> 0.46236559 | F41: 38 | G41: 16457.63 | H41: 5058312.4 | I41: =H41/G41 -> 307.35363
...

Sheet Disposition Month
C3: ROYALTY
B4: Oil | C4: Gas | D4: Plant Products
A5: 44562 | B5: 9008524.2 | C5: 7501311.7 | D5: 609753.64
A6: 44593 | B6: 9183346.1 | C6: 8433379.4 | D6: 585055.65
A7: 44621 | B7: 12643933 | C7: 8222084.5 | D7: 918089.57
A8: 44652 | B8: 13500149 | C8: 10243940 | D8: 738342.19
A9: 44682 | B9: 14491566 | C9: 13651014 | D9: 726892.76
A10: 44713 | B10: 14512148 | C10: 15716558 | D10: 705567.35
A11: 44743 | B11: 13280084 | C11: 12435842 | D11: 623347.73
A12: 44774 | B12: 11807457 | C12: 14432161 | D12: 495786.41
A13: 44805 | B13: 10017922 | C13: 15309289 | D13: 460925.4
A14: 44835 | B14: 11758616 | C14: 11232368 | D14: 365660.79
A15: 44866 | B15: 10679349 | C15: 9407579.1 | D15: 335077.34
A16: 44896 | B16: 9425891.2 | C16: 10937689 | D16: 227857.89
A17: 44927 | B17: 9007442.9 | C17: 6480760.5 | D17: 266622.01
A19: Total | B19: =SUM(B5:B18) -> 1.4931643e+08 | C19: =SUM(C5:C18) -> 1.4400398e+08 | D19: =SUM(D5:D18) -> 7058978.7
A27: Oil | M27: Oil Royalty
A29: Disp_Date | B29: Override_Amt | C29: Regular_Amt | D29: Royalty | E29: Net_Value_Amt | F29: Product | G29: Product_Volume | H29: Calculated_Price | I29: Severance Tax | J29: Deduction Amt | N29: January | O29: February | P29: March | Q29: April | R29: May | S29: June | T29: July | U29: August | V29: September | W29: October | X29: November | Y29: December
A30: 37987 | B30: 72088.47 | C30: 11056581 | D30: 11128670 | E30: 11129005 | F30: 10 | G30: 439528.96 | H30: 28.568248 | I30: 1427566.9 | J30: 0 | M30: 2004 | N30: 11128670 | O30: 10402214 | P30: 11906216 | Q30: 11614220 | R30: 12494366 | S30: 11536288 | T30: 12561536 | U30: 13762148 | V30: 9938887.7 | W30: 13180010 | X30: 13187127 | Y30: 12046402 | Z30: =SUM(N30:Y30) -> 1.4375809e+08
A31: 38018 | B31: 69929.15 | C31: 10332285 | D31: 10402214 | E31: 10375394 | F31: 10 | G31: 352554.18 | H31: 31.289359 | I31: 655800.43 | J31: 0 | M31: 2005 | N31: 13292426 | O31: 12987630 | P31: 16106665 | Q31: 15603760 | R31: 14952848 | S31: 15850380 | T31: 15765808 | U31: 16617157 | V31: 4387956.3 | W31: 5818173.3 | X31: 8328168.8 | Y31: 9913584.9 | Z31: =SUM(N31:Y31) -> 1.4962456e+08
A32: 38047 | B32: 92792.61 | C32: 11813424 | D32: 11906216 | E32: 11774779 | F32: 10 | G32: 388250.31 | H32: 34.335926 | I32: 1556155 | J32: 0 | M32: 2006 | N32: 12627941 | O32: 11709444 | P32: 13454279 | Q32: 15318759 | R32: 16835017 | S32: 18112664 | T32: 20466479 | U32: 21136410 | V32: 18610671 | W32: 16986854 | X32: 17163999 | Y32: 18889791 | Z32: =SUM(N32:Y32) -> 2.0131231e+08
A33: 38078 | B33: 163259.72 | C33: 11450960 | D33: 11614220 | E33: 11618034 | F33: 10 | G33: 371664.95 | H33: 35.530114 | I33: 1587264.4 | J33: 0 | M33: 2007 | N33: 18129452 | O33: 17092104 | P33: 20739889 | Q33: 21335908 | R33: 22398688 | S33: 22950566 | T33: 25622435 | U33: 23995981 | V33: 25178592 | W33: 28607643 | X33: 30756062 | Y33: 31762558 | Z33: =SUM(N33:Y33) -> 2.8856988e+08
A34: 38108 | B34: 1414418.5 | C34: 11079947 | D34: 12494366 | E34: 12700211 | F34: 10 | G34: 376944.42 | H34: 38.14828 | I34: 1679570.2 | J34: 0 | M34: 2008 | N34: 30136087 | O34: 29728972 | P34: 33639991 | Q34: 38219993 | R34: 44592336 | S34: 46250247 | T34: 48137351 | U34: 40013576 | V34: 12511429 | W34: 20819628 | X34: 17313236 | Y34: 11256458 | Z34: =SUM(N34:Y34) -> 3.726193e+08
A35: 38139 | B35: 76635.93 | C35: 11459652 | D35: 11536288 | E35: 11556570 | F35: 10 | G35: 364373.39 | H35: 35.918956 | I35: 1531341.7 | J35: 0 | M35: 2009 | N35: 10974773 | O35: 9585016.4 | P35: 13804092 | Q35: 13850569 | R35: 17031598 | S35: 19180684 | T35: 18356637 | U35: 20653848 | V35: 20887409 | W35: 23724229 | X35: 20885603 | Y35: 22274267 | Z35: =SUM(N35:Y35) -> 2.1120873e+08
A36: 38169 | B36: 133291.7 | C36: 12428244 | D36: 12561536 | E36: 12613764 | F36: 10 | G36: 373376.37 | H36: 38.173056 | I36: 1639152.8 | J36: 0 | M36: 2010 | N36: 20939723 | O36: 20766449 | P36: 22490281 | Q36: 22515723 | R36: 21895271 | S36: 21607468 | T36: 22531861 | U36: 23336451 | V36: 22284589 | W36: 25235796 | X36: 22945479 | Y36: 25970736 | Z36: =SUM(N36:Y36) -> 2.7251983e+08
A37: 38200 | B37: 111491.44 | C37: 13650657 | D37: 13762148 | E37: 13770187 | F37: 10 | G37: 374957.05 | H37: 41.488565 | I37: 1786243 | J37: 0 | M37: 2011 | N37: 23581578 | O37: 25009763 | P37: 35042940 | Q37: 34959862 | R37: 33269957 | S37: 30584919 | T37: 31904247 | U37: 31421576 | V37: 28570596 | W37: 35054031 | X37: 36290978 | Y37: 35628942 | Z37: =SUM(N37:Y37) -> 3.8131939e+08
A38: 38231 | B38: 110747.4 | C38: 9828140.3 | D38: 9938887.7 | E38: 9938532.2 | F38: 10 | G38: 252648.35 | H38: 44.554064 | I38: 1317978.5 | J38: 0 | M38: 2012 | N38: 34063382 | O38: 30100852 | P38: 36263825 | Q38: 35920633 | R38: 34164723 | S38: 27470921 | T38: 30686493 | U38: 27525787 | V38: 24636808 | W38: 32097116 | X38: 31288007 | Y38: 33595184 | Z38: =SUM(N38:Y38) -> 3.7781373e+08
A39: 38261 | B39: 80173.98 | C39: 13099836 | D39: 13180010 | E39: 13185912 | F39: 10 | G39: 294836.09 | H39: 50.661799 | I39: 1751014.9 | J39: 0 | M39: 2013 | N39: 34563915 | O39: 30747752 | P39: 33960902 | Q39: 32330707 | R39: 32810833 | S39: 31029317 | T39: 34233087 | U39: 35065468 | V39: 33322773 | W39: 29311047 | X39: 26832942 | Y39: 29477181 | Z39: =SUM(N39:Y39) -> 3.8368592e+08
A40: 38292 | B40: 48500.8 | C40: 13138626 | D40: 13187127 | E40: 13187616 | F40: 10 | G40: 306161.9 | H40: 48.094118 | I40: 1536970.3 | J40: 0 | M40: 2014 | N40: 26784807 | O40: 26021206 | P40: 31008116 | Q40: 28415344 | R40: 30484326 | S40: 30753650 | T40: 29960524 | U40: 28387618 | V40: 26946661 | W40: 24402972 | X40: 20879045 | Y40: 17268976 | Z40: =SUM(N40:Y40) -> 3.2131325e+08
A41: 38322 | B41: 45252.1 | C41: 12001150 | D41: 12046402 | E41: 12060722 | F41: 10 | G41: 325615.35 | H41: 41.870904 | I41: 1573086.8 | J41: 0 | M41: 2015 | N41: 13001178 | O41: 12146375 | P41: 12847770 | Q41: 14432881 | R41: 15842940 | S41: 15572216 | T41: 13223834 | U41: 11123541 | V41: 10761479 | W41: 11025392 | X41: 9316447.4 | Y41: 8121714.2 | Z41: =SUM(N41:Y41) -> 1.4741577e+08
... A48: 38534 | B48: 131069.03 | C48: 15634739 | D48: 15765808 | E48: 15752402 | F48: 10 | G48: 319254.64 | H48: 55.683981 | I48: 2024966.8 | J48: 0 | M48: 2022 | N48: 9008524.2 | O48: 9183346.1 | P48: 12643933 | Q48: 13500149 | R48: 14491566 | S48: 14512148 | T48: 13280084 | U48: 11807457 | V48: 10017922 | W48: 11758616 | X48: 10679349 | Y48: 9425891.2 | Z48: =SUM(N48:Y48) -> 1.4030898e+08
A49: 38565 | B49: 148707.13 | C49: 16468450 | D49: 16617157 | E49: 16695564 | F49: 10 | G49: 315616.44 | H49: 59.983583 | I49: 2236240.9 | J49: 0 | M49: 2023 | N49: 9007442.9 | Z49: =SUM(N49:Y49) -> 9007442.9
A50: 38596 | B50: 24981.72 | C50: 4362974.6 | D50: 4387956.3 | E50: 4400085.1 | F50: 10 | G50: 78702.698 | H50: 62.885847 | I50: 549200.82 | J50: 0
A51: 38626 | B51: 40298.98 | C51: 5777874.3 | D51: 5818173.3 | E51: 5806491.9 | F51: 10 | G51: 114538.45 | H51: 56.971685 | I51: 718956.62 | J51: 0 | M51: Oil Volume
A52: 38657 | B52: 46091.11 | C52: 8282077.7 | D52: 8328168.8 | E52: 8330037.3 | F52: 10 | G52: 180921.9 | H52: 51.99165 | I52: 1076390.6 | J52: 0
A53: 38687 | B53: 56854.26 | C53: 9856730.6 | D53: 9913584.9 | E53: 9907885.3 | F53: 10 | G53: 197290.88 | H53: 56.741527 | I53: 1286700.2 | J53: 0 | N53: January | O53: February | P53: March | Q53: April | R53: May | S53: June | T53: July | U53: August | V53: September | W53: October | X53: November | Y53: December
A54: 38718 | B54: 59001.7 | C54: 12568939 | D54: 12627941 | E54: 12627708 | F54: 10 | G54: 230553.14 | H54: 61.637295 | I54: 1582964.5 | J54: 0 | M54: 2004 | N54: 439528.96 | O54: 352554.18 | P54: 388250.31 | Q54: 371664.95 | R54: 376944.42 | S54: 364373.39 | T54: 373376.37 | U54: 374957.05 | V54: 252648.35 | W54: 294836.09 | X54: 306161.9 | Y54: 325615.35 | Z54: =SUM(N54:Y54) -> 4220911.3
A55: 38749 | B55: 64632.38 | C55: 11644812 | D55: 11709444 | E55: 11711611 | F55: 10 | G55: 221290.46 | H55: 59.215708 | I55: 1392259.9 | J55: 0 | M55: 2005 | N55: 346534.82 | O55: 319401.76 | P55: 326574.2 | Q55: 404282.73 | R55: 376916.31 | S55: 358886.39 | T55: 319254.64 | U55: 315616.44 | V55: 78702.698 | W55: 114538.45 | X55: 180921.9 | Y55: 197290.88 | Z55: =SUM(N55:Y55) -> 3338921.2
A56: 38777 | B56: 35170.64 | C56: 13419109 | D56: 13454279 | E56: 13502961 | F56: 10 | G56: 249233.35 | H56: 60.87179 | I56: 1668319.5 | J56: 0 | M56: 2006 | N56: 230553.14 | O56: 221290.46 | P56: 249233.35 | Q56: 283338.5 | R56: 275598.76 | S56: 300558.28 | T56: 317273.17 | U56: 336148.3 | V56: 309714.8 | W56: 358167.35 | X56: 348876.46 | Y56: 372942.7 | Z56: =SUM(N56:Y56) -> 3603695.3
A57: 38808 | B57: 44967.89 | C57: 15273791 | D57: 15318759 | E57: 15321712 | F57: 10 | G57: 283338.5 | H57: 60.821583 | I57: 1911384 | J57: 0 | M57: 2007 | N57: 369686.74 | O57: 334445.28 | P57: 381894.43 | Q57: 380620.57 | R57: 394922.14 | S57: 386951.94 | T57: 384343.37 | U57: 372200.98 | V57: 369099.64 | W57: 390100.07 | X57: 381339.32 | Y57: 404072.87 | Z57: =SUM(N57:Y57) -> 4549677.4
...
