Workbook

Sheet Blank Weekly
A1: LOUISIANA DEPARTMENT OF CONSERVATION AND ENERGY
A2: "SHREVEPORT DISTRICT" WEEKLY PROGRESS REPORT
A3: Send to shreve-drill@la.gov every Monday by 9:00 AM from location, or by 12:00 PM from office.
A4: DATE OF REPORT: | AH4: WELL SERIAL NUMBER: | AW4: =IF('Well Summary'!O5="","",'Well Summary'!O5)
A5: Operator: | F5: =IF('Well Summary'!H6="","",'Well Summary'!H6) | AD5: Well Name: | AE5: =IF('Well Summary'!BA6="","",'Well Summary'!BA6) | BC5: Well No: | BD5: =IF('Well Summary'!CJ6="","",'Well Summary'!CJ6)
A6: Field: | D6: =IF('Well Summary'!E7="","",'Well Summary'!E7) | AF6: Parish: | AJ6: =IF('Well Summary'!BC7="","",'Well Summary'!BC7) | AQ6: Sec: | AT6: =IF('Well Summary'!BR7="","",'Well Summary'!BR7) | AW6: Twp: | AZ6: =IF('Well Summary'!CC7="","",'Well Summary'!CC7) | BC6: Rng: | BF6: =IF('Well Summary'!CL7="","",'Well Summary'!CL7)
A7: Operation: | AO7: Rig Name: | AP7: =IF('Well Summary'!H8="","",'Well Summary'!H8)
A8: DCE Conservation Enforcement Specialist: | T8: =VLOOKUP(D6,'Office Use'!L3:M282,2,FALSE) -> #N/A
F9: =IF(F7="Drilling",5,IF(F7="Completion",9,IF(F7="Operations Suspended",7,IF(F7="Drillout",8,IF(F7="Flowback",8,IF(F7="Well TD",31,IF(F7="Frac Prep",9,IF(F7="Frac",9,IF(F7="Plug & Abandonment",30,IF(F7="Workover",33,IF(F7="Other",33,""))))))))))) | H9: All reported measurements are referenced from ground elevation.
Q10: Last BOP Pressure Test Date: | AV10: Last BOP Function Test Date:
Q11: Next BOP Pressure Test Due Date: | R11: =IF(R10="","",R10+14) | AV11: Next BOP Function Test Due Date: | AW11: =IF(AW10="","",AW10+7)
A13: =IF(F7="Frac Prep","Estimated or Start Frac Date:",IF(F7="Frac","Estimated or Start Frac Date:","Current MD (ft):")) -> Current MD (ft): | P13: =IF(F7="Frac Prep","Estimated or Final Frac Date:",IF(F7="Frac","Estimated or Final Frac Date:","Current TVD (ft):")) -> Current TVD (ft): | AF13: =IF(F7="Drilling","Hole Size (in):",IF(F7="Frac","Est. Total Frac Stages:",""))
BB14: =IF(F7="Drilling","Kick-Off Point (ft):","")
S16: FINAL TD (ft): | T16: =IF('Well Summary'!AV21="","",'Well Summary'!AV21) | AP16: FINAL TVD (ft): | AQ16: =IF('Well Summary'!AV24="","",'Well Summary'!AV24)
A18: WEEKLY ACTIVITY SUMMARY
A20: From | C20: =IF(K4="","",C22-1)
C21: Mon. 6:00 AM
A22: To | C22: =IF(K4="","",C24)
C23: Tues. 6:00 AM
A24: From | C24: =IF(K4="","",C26-1)
C25: Tues. 6:00 AM
A26: To | C26: =IF(K4="","",C28)
C27: Wed. 6:00 AM
A28: From | C28: =IF(K4="","",C30-1)
C29: Wed. 6:00 AM
A30: To | C30: =IF(K4="","",C32)
C31: Thurs. 6:00 AM
A32: From | C32: =IF(K4="","",C34-1)
C33: Thurs. 6:00 AM
A34: To | C34: =IF(K4="","",C36)
C35: Fri. 6:00 AM
A36: From | C36: =IF(K4="","",C38-1)
C37: Fri. 6:00 AM
A38: To | C38: =IF(K4="","",C40)
C39: Sat. 6:00 AM
A40: From | C40: =IF(K4="","",C42-1)
C41: Sat. 6:00 AM
A42: To | C42: =IF(K4="","",C44)
C43: Sun. 6:00 AM
A44: From | C44: =IF(K4="","",C46-1)
C45: Sun. 6:00 AM
A46: To | C46: =IF(K4="","",K4)
C47: Mon. 6:00 AM
A48: ="Scout Code"&" "&F9&": "&TEXT(C22,"m/d/yyyy")&" "&C23&" - "&J20&"; "&TEXT(C26,"m/d/yyyy")&" "&C27&" - "&J24&"; "&TEXT(C30,"m/d/yyyy")&" "&C31&" - "&J28&"; "&TEXT(C34,"m/d/yyyy")&" "&C35&" - "&J32&"; "&TEXT(C38,"m/d/yyyy")&" "&C39&" - "&J36&"; "&TEXT(C42,"m/d/yyyy")&" "&C43&" - "&J40&"; "&TEXT(C46,"m/d/yyyy")&" "&C47&" - "&J44 -> Scout Code : Tues. 6:00 AM - ; Wed. 6:00 AM - ; Thurs. 6:00 AM - ; Fri. 6:00 AM - ; Sat. 6:00 AM - ; Sun. 6:00 AM - ; Mon. 6:00 AM - | B48: ="Scout Code"&" "&F9&": "&TEXT(C22,"m/d/yyyy")&" "&C23&" - "&J20&"; "&TEXT(C26,"m/d/yyyy")&" "&C27&" - "&J24&"; "&TEXT(C30,"m/d/yyyy")&" "&C31&" - "&J28&"; "&TEXT(C34,"m/d/yyyy")&" "&C35&" - "&J32&"; "&TEXT(C38,"m/d/yyyy")&" "&C39&" - "&J36&"; "&TEXT(C42,"m/d/yyyy")&" "&C43&" - "&J40&"; "&TEXT(C46,"m/d/yyyy")&" "&C47&" - "&J44 -> Scout Code : Tues. 6:00 AM - ; Wed. 6:00 AM - ; Thurs. 6:00 AM - ; Fri. 6:00 AM - ; Sat. 6:00 AM - ; Sun. 6:00 AM - ; Mon. 6:00 AM -
A50: Future Activity
A53: REMARKS/COMMENTS
Q57: Operator Representative Name: | AX57: Phone #:

Sheet mm.dd.yy
A1: LOUISIANA DEPARTMENT OF CONSERVATION AND ENERGY
A2: "SHREVEPORT DISTRICT" WEEKLY PROGRESS REPORT
A3: Send to shreve-drill@la.gov every Monday by 9:00 AM from location, or by 12:00 PM from office.
A4: DATE OF REPORT: | AH4: WELL SERIAL NUMBER: | AW4: =IF('Well Summary'!O5="","",'Well Summary'!O5)
A5: Operator: | F5: =IF('Well Summary'!H6="","",'Well Summary'!H6) | AD5: Well Name: | AE5: =IF('Well Summary'!BA6="","",'Well Summary'!BA6) | BC5: Well No: | BD5: =IF('Well Summary'!CJ6="","",'Well Summary'!CJ6)
A6: Field: | D6: =IF('Well Summary'!E7="","",'Well Summary'!E7) | AF6: Parish: | AJ6: =IF('Well Summary'!BC7="","",'Well Summary'!BC7) | AQ6: Sec: | AT6: =IF('Well Summary'!BR7="","",'Well Summary'!BR7) | AW6: Twp: | AZ6: =IF('Well Summary'!CC7="","",'Well Summary'!CC7) | BC6: Rng: | BF6: =IF('Well Summary'!CL7="","",'Well Summary'!CL7)
A7: Operation: | AO7: Rig Name: | AP7: =IF('Well Summary'!H8="","",'Well Summary'!H8)
A8: DCE Conservation Enforcement Specialist: | T8: =VLOOKUP(D6,'Office Use'!L3:M282,2,FALSE) -> #N/A
F9: =IF(F7="Drilling",5,IF(F7="Completion",9,IF(F7="Operations Suspended",7,IF(F7="Drillout",8,IF(F7="Flowback",8,IF(F7="Well TD",31,IF(F7="Frac Prep",9,IF(F7="Frac",9,IF(F7="Plug & Abandonment",30,IF(F7="Workover",33,IF(F7="Other",33,""))))))))))) | H9: All reported measurements are referenced from ground elevation.
Q10: Last BOP Pressure Test Date: | AV10: Last BOP Function Test Date:
Q11: Next BOP Pressure Test Due Date: | R11: =IF(R10="","",R10+14) | AV11: Next BOP Function Test Due Date: | AW11: =IF(AW10="","",AW10+7)
A13: =IF(F7="Frac Prep","Estimated or Start Frac Date:",IF(F7="Frac","Estimated or Start Frac Date:","Current MD (ft):")) -> Current MD (ft): | P13: =IF(F7="Frac Prep","Estimated or Final Frac Date:",IF(F7="Frac","Estimated or Final Frac Date:","Current TVD (ft):")) -> Current TVD (ft): | AF13: =IF(F7="Drilling","Hole Size (in):",IF(F7="Frac","Est. Total Frac Stages:",""))
BB14: =IF(F7="Drilling","Kick-Off Point (ft):","")
S16: FINAL TD (ft): | T16: =IF('Well Summary'!AV21="","",'Well Summary'!AV21) | AP16: FINAL TVD (ft): | AQ16: =IF('Well Summary'!AV24="","",'Well Summary'!AV24)
A18: WEEKLY ACTIVITY SUMMARY
A20: From | C20: =IF(K4="","",C22-1)
C21: Mon. 6:00 AM
A22: To | C22: =IF(K4="","",C24)
C23: Tues. 6:00 AM
A24: From | C24: =IF(K4="","",C26-1)
C25: Tues. 6:00 AM
A26: To | C26: =IF(K4="","",C28)
C27: Wed. 6:00 AM
A28: From | C28: =IF(K4="","",C30-1)
C29: Wed. 6:00 AM
A30: To | C30: =IF(K4="","",C32)
C31: Thurs. 6:00 AM
A32: From | C32: =IF(K4="","",C34-1)
C33: Thurs. 6:00 AM
A34: To | C34: =IF(K4="","",C36)
C35: Fri. 6:00 AM
A36: From | C36: =IF(K4="","",C38-1)
C37: Fri. 6:00 AM
A38: To | C38: =IF(K4="","",C40)
C39: Sat. 6:00 AM
A40: From | C40: =IF(K4="","",C42-1)
C41: Sat. 6:00 AM
A42: To | C42: =IF(K4="","",C44)
C43: Sun. 6:00 AM
A44: From | C44: =IF(K4="","",C46-1)
C45: Sun. 6:00 AM
A46: To | C46: =IF(K4="","",K4)
C47: Mon. 6:00 AM
A48: ="Scout Code"&" "&F9&": "&TEXT(C22,"m/d/yyyy")&" "&C23&" - "&J20&"; "&TEXT(C26,"m/d/yyyy")&" "&C27&" - "&J24&"; "&TEXT(C30,"m/d/yyyy")&" "&C31&" - "&J28&"; "&TEXT(C34,"m/d/yyyy")&" "&C35&" - "&J32&"; "&TEXT(C38,"m/d/yyyy")&" "&C39&" - "&J36&"; "&TEXT(C42,"m/d/yyyy")&" "&C43&" - "&J40&"; "&TEXT(C46,"m/d/yyyy")&" "&C47&" - "&J44 -> Scout Code : Tues. 6:00 AM - ; Wed. 6:00 AM - ; Thurs. 6:00 AM - ; Fri. 6:00 AM - ; Sat. 6:00 AM - ; Sun. 6:00 AM - ; Mon. 6:00 AM - | B48: ="Scout Code"&" "&F9&": "&TEXT(C22,"m/d/yyyy")&" "&C23&" - "&J20&"; "&TEXT(C26,"m/d/yyyy")&" "&C27&" - "&J24&"; "&TEXT(C30,"m/d/yyyy")&" "&C31&" - "&J28&"; "&TEXT(C34,"m/d/yyyy")&" "&C35&" - "&J32&"; "&TEXT(C38,"m/d/yyyy")&" "&C39&" - "&J36&"; "&TEXT(C42,"m/d/yyyy")&" "&C43&" - "&J40&"; "&TEXT(C46,"m/d/yyyy")&" "&C47&" - "&J44 -> Scout Code : Tues. 6:00 AM - ; Wed. 6:00 AM - ; Thurs. 6:00 AM - ; Fri. 6:00 AM - ; Sat. 6:00 AM - ; Sun. 6:00 AM - ; Mon. 6:00 AM -
A50: Future Activity
A53: REMARKS/COMMENTS
Q57: Operator Representative Name: | AX57: Phone #:

Sheet BOP Aff
G1: LOUISIANA DEPARTMENT OF CONSERVATION AND ENERGY
B2: "SHREVEPORT DISTRICT" RECORD OF BOP TEST(S) *Test chart must be immediately available when requested*
A3: WELL SERIAL NUMBER: | P3: =IF('Well Summary'!O5="","",'Well Summary'!O5)
A4: OPERATOR: | H4: =IF('Well Summary'!H6="","",'Well Summary'!H6) | BA4: WELL NAME: | BB4: =IF('Well Summary'!BA6="","",'Well Summary'!BA6) | CJ4: WELL NO: | CK4: =IF('Well Summary'!CJ6="","",'Well Summary'!CJ6)
A5: FIELD: | E5: =IF('Well Summary'!E7="","",'Well Summary'!E7) | BC5: PARISH: | BD5: =IF('Well Summary'!BC7="","",'Well Summary'!BC7) | BR5: SECTION: | BS5: =IF('Well Summary'!BR7="","",'Well Summary'!BR7) | CC5: TOWNSHIP: | CD5: =IF('Well Summary'!CC7="","",'Well Summary'!CC7) | CL5: RANGE: | CM5: =IF('Well Summary'!CL7="","",'Well Summary'!CL7)
A7: TEST TYPE | J7: TEST DATE | U7: OPERATION | AF7: TEST RESULT | AR7: NEXT FUNCTION TEST DUE BY DATE | BR7: NEXT PRESSURE TEST DUE BY DATE
AR8: =IF(A8="PRESSURE TEST",J8+7,IF(A8="FUNCTION TEST",J8+7,"")) | BR8: =IF(A8="PRESSURE TEST",J8+14,IF(A8="FUNCTION TEST","N/A",""))
AR9: =IF(A9="PRESSURE TEST",J9+7,IF(A9="FUNCTION TEST",J9+7,"")) | BR9: =IF(A9="PRESSURE TEST",J9+14,IF(A9="FUNCTION TEST","N/A",""))
AR10: =IF(A10="PRESSURE TEST",J10+7,IF(A10="FUNCTION TEST",J10+7,"")) | BR10: =IF(A10="PRESSURE TEST",J10+14,IF(A10="FUNCTION TEST","N/A",""))
AR11: =IF(A11="PRESSURE TEST",J11+7,IF(A11="FUNCTION TEST",J11+7,"")) | BR11: =IF(A11="PRESSURE TEST",J11+14,IF(A11="FUNCTION TEST","N/A",""))
AR12: =IF(A12="PRESSURE TEST",J12+7,IF(A12="FUNCTION TEST",J12+7,"")) | BR12: =IF(A12="PRESSURE TEST",J12+14,IF(A12="FUNCTION TEST","N/A",""))
AR13: =IF(A13="PRESSURE TEST",J13+7,IF(A13="FUNCTION TEST",J13+7,"")) | BR13: =IF(A13="PRESSURE TEST",J13+14,IF(A13="FUNCTION TEST","N/A",""))
AR14: =IF(A14="PRESSURE TEST",J14+7,IF(A14="FUNCTION TEST",J14+7,"")) | BR14: =IF(A14="PRESSURE TEST",J14+14,IF(A14="FUNCTION TEST","N/A",""))
AR15: =IF(A15="PRESSURE TEST",J15+7,IF(A15="FUNCTION TEST",J15+7,"")) | BR15: =IF(A15="PRESSURE TEST",J15+14,IF(A15="FUNCTION TEST","N/A",""))
AR16: =IF(A16="PRESSURE TEST",J16+7,IF(A16="FUNCTION TEST",J16+7,"")) | BR16: =IF(A16="PRESSURE TEST",J16+14,IF(A16="FUNCTION TEST","N/A",""))
AR17: =IF(A17="PRESSURE TEST",J17+7,IF(A17="FUNCTION TEST",J17+7,"")) | BR17: =IF(A17="PRESSURE TEST",J17+14,IF(A17="FUNCTION TEST","N/A",""))
AR18: =IF(A18="PRESSURE TEST",J18+7,IF(A18="FUNCTION TEST",J18+7,"")) | BR18: =IF(A18="PRESSURE TEST",J18+14,IF(A18="FUNCTION TEST","N/A",""))
AR19: =IF(A19="PRESSURE TEST",J19+7,IF(A19="FUNCTION TEST",J19+7,"")) | BR19: =IF(A19="PRESSURE TEST",J19+14,IF(A19="FUNCTION TEST","N/A",""))
... AR37: =IF(A37="PRESSURE TEST",J37+7,IF(A37="FUNCTION TEST",J37+7,"")) | BR37: =IF(A37="PRESSURE TEST",J37+14,IF(A37="FUNCTION TEST","N/A",""))
AA39: Electronic Signature of Operator Representative: | BT39: Phone Number:
B40: You are providing your electronic signature with this affidavit stating that all information that you provided is true and done according to the rules and regulations of the Statewide Order No. 29-B.
E251: 252760

Sheet Well Summary
A1: LOUISIANA DEPARTMENT OF CONSERVATION AND ENERGY
A2: "SHREVEPORT DISTRICT" WELL SUMMARY
A5: WELL SERIAL NUMBER:
A6: OPERATOR: | AZ6: WELL NAME: | CI6: WELL NO:
A7: FIELD: | BB7: PARISH: | BQ7: SECTION: | CB7: TOWNSHIP: | CK7: RANGE:
A8: RIG NAME: | AH8: RIG PHONE: | BD8: CONTACT PERSON(S):
A10: Casing/Packers/Tubing/Liners - All must be reported to this office
A12: Hole Depth (ft) | G12: Hole Size (in) | M12: Cond / Csg Size (in) | S12: Casing Weight (lbs) | X12: Upper Set Depth (ft) | AD12: Lower Set Depth (ft) | AJ12: Lead Slurry (sacks) | AP12: Mid Slurry (sacks) | AV12: Tail Slurry (sacks) | BB12: Top Off / DV Tool (sacks) | BH12: Total Cement (sacks) | BN12: Top of Cement (ft) | BT12: Conductor / Casing Ran Date | CB12: Casing Pressure Test Date | CJ12: Pressure Test Percentage Drop
A14: =IF('Surf Csg Aff'!H13="","N/A",'Surf Csg Aff'!H13) -> N/A | G14: =IF('Surf Csg Aff'!X13="","N/A",'Surf Csg Aff'!X13) -> N/A | M14: =IF('Surf Csg Aff'!A11="","N/A",'Surf Csg Aff'!A11) -> N/A | S14: =IF('Surf Csg Aff'!R11="","N/A",'Surf Csg Aff'!R11) -> N/A | X14: =IF('Surf Csg Aff'!F11="","N/A",'Surf Csg Aff'!F11) -> N/A | AD14: =IF('Surf Csg Aff'!L11="","N/A",'Surf Csg Aff'!L11) -> N/A | AJ14: =IF('Surf Csg Aff'!B15="","N/A",'Surf Csg Aff'!B15) -> N/A | AP14: =IF('Surf Csg Aff'!AE15="","N/A",'Surf Csg Aff'!AE15) -> N/A | AV14: =IF('Surf Csg Aff'!B17="","N/A",'Surf Csg Aff'!B17) -> N/A | BB14: =IF('Surf Csg Aff'!AE17="","N/A",'Surf Csg Aff'!AE17) -> N/A | BH14: =IF('Surf Csg Aff'!N18="","N/A",'Surf Csg Aff'!N18) -> N/A | BN14: =IF('Surf Csg Aff'!H20="","N/A",'Surf Csg Aff'!H20) -> N/A | BT14: =IF('Surf Csg Aff'!L5="","N/A",'Surf Csg Aff'!L5) -> N/A | CB14: =IF('Surf Csg Aff'!H26="","N/A",'Surf Csg Aff'!H26) -> N/A | CJ14: =IF('Surf Csg Aff'!AI28="","N/A",'Surf Csg Aff'!AI28) -> N/A
A15: =IF('Int 1 Csg Aff'!H13="","N/A",'Int 1 Csg Aff'!H13) -> N/A | G15: =IF('Int 1 Csg Aff'!X13="","N/A",'Int 1 Csg Aff'!X13) -> N/A | M15: =IF('Int 1 Csg Aff'!A11="","N/A",'Int 1 Csg Aff'!A11) -> N/A | S15: =IF('Int 1 Csg Aff'!R11="","N/A",'Int 1 Csg Aff'!R11) -> N/A | X15: =IF('Int 1 Csg Aff'!F11="","N/A",'Int 1 Csg Aff'!F11) -> N/A | AD15: =IF('Int 1 Csg Aff'!L11="","N/A",'Int 1 Csg Aff'!L11) -> N/A | AJ15: =IF('Int 1 Csg Aff'!B15="","N/A",'Int 1 Csg Aff'!B15) -> N/A | AP15: =IF('Int 1 Csg Aff'!AE15="","N/A",'Int 1 Csg Aff'!AE15) -> N/A | AV15: =IF('Int 1 Csg Aff'!B17="","N/A",'Int 1 Csg Aff'!B17) -> N/A | BB15: =IF('Int 1 Csg Aff'!AE17="","N/A",'Int 1 Csg Aff'!AE17) -> N/A | BH15: =IF('Int 1 Csg Aff'!N18="","N/A",'Int 1 Csg Aff'!N18) -> N/A | BN15: =IF('Int 1 Csg Aff'!H20="","N/A",'Int 1 Csg Aff'!H20) -> N/A | BT15: =IF('Int 1 Csg Aff'!L5="","N/A",'Int 1 Csg Aff'!L5) -> N/A | CB15: =IF('Int 1 Csg Aff'!H26="","N/A",'Int 1 Csg Aff'!H26) -> N/A | CJ15: =IF('Int 1 Csg Aff'!AI28="","N/A",'Int 1 Csg Aff'!AI28) -> N/A
A16: =IF('Int 2 Csg Aff'!H13="","N/A",'Int 2 Csg Aff'!H13) -> N/A | G16: =IF('Int 2 Csg Aff'!X13="","N/A",'Int 2 Csg Aff'!X13) -> N/A | M16: =IF('Int 2 Csg Aff'!A11="","N/A",'Int 2 Csg Aff'!A11) -> N/A | S16: =IF('Int 2 Csg Aff'!R11="","N/A",'Int 2 Csg Aff'!R11) -> N/A | X16: =IF('Int 2 Csg Aff'!F11="","N/A",'Int 2 Csg Aff'!F11) -> N/A | AD16: =IF('Int 2 Csg Aff'!L11="","N/A",'Int 2 Csg Aff'!L11) -> N/A | AJ16: =IF('Int 2 Csg Aff'!B15="","N/A",'Int 2 Csg Aff'!B15) -> N/A | AP16: =IF('Int 2 Csg Aff'!AE15="","N/A",'Int 2 Csg Aff'!AE15) -> N/A | AV16: =IF('Int 2 Csg Aff'!B17="","N/A",'Int 2 Csg Aff'!B17) -> N/A | BB16: =IF('Int 2 Csg Aff'!AE17="","N/A",'Int 2 Csg Aff'!AE17) -> N/A | BH16: =IF('Int 2 Csg Aff'!N18="","N/A",'Int 2 Csg Aff'!N18) -> N/A | BN16: =IF('Int 2 Csg Aff'!H20="","N/A",'Int 2 Csg Aff'!H20) -> N/A | BT16: =IF('Int 2 Csg Aff'!L5="","N/A",'Int 2 Csg Aff'!L5) -> N/A | CB16: =IF('Int 2 Csg Aff'!H26="","N/A",'Int 2 Csg Aff'!H26) -> N/A | CJ16: =IF('Int 2 Csg Aff'!AI28="","N/A",'Int 2 Csg Aff'!AI28) -> N/A
A17: =IF('Prod Csg Aff'!H16="","N/A",'Prod Csg Aff'!H16) -> N/A | G17: =IF('Prod Csg Aff'!X16="","N/A",'Prod Csg Aff'!X16) -> N/A | M17: =IF('Prod Csg Aff'!A12="","N/A",'Prod Csg Aff'!A12) -> N/A | S17: =IF('Prod Csg Aff'!R12="","N/A",'Prod Csg Aff'!R12) -> N/A | X17: =IF('Prod Csg Aff'!F12="","N/A",'Prod Csg Aff'!F12) -> N/A | AD17: =IF('Prod Csg Aff'!L12="","N/A",'Prod Csg Aff'!L12) -> N/A | AJ17: =IF('Prod Csg Aff'!B18="","N/A",'Prod Csg Aff'!B18) -> N/A | AP17: =IF('Prod Csg Aff'!AE18="","N/A",'Prod Csg Aff'!AE18) -> N/A | AV17: =IF('Prod Csg Aff'!B20="","N/A",'Prod Csg Aff'!B20) -> N/A | BB17: =IF('Prod Csg Aff'!AE20="","N/A",'Prod Csg Aff'!AE20) -> N/A | BH17: =IF('Prod Csg Aff'!N21="","N/A",'Prod Csg Aff'!N21) -> N/A | BN17: =IF('Prod Csg Aff'!H23="","N/A",'Prod Csg Aff'!H23) -> N/A | BT17: =IF('Prod Csg Aff'!L5="","N/A",'Prod Csg Aff'!L5) -> N/A | CB17: =IF('Prod Csg Aff'!H29="","N/A",'Prod Csg Aff'!H29) -> N/A | CJ17: =IF('Prod Csg Aff'!AI31="","N/A",'Prod Csg Aff'!AI31) -> N/A
M18: =IF('Prod Csg Aff'!I9="Yes - 2 Tapers",'Prod Csg Aff'!A13,IF('Prod Csg Aff'!I9="Yes - 3 Tapers",'Prod Csg Aff'!A13,"")) | S18: =IF('Prod Csg Aff'!I9="Yes - 2 Tapers",'Prod Csg Aff'!R13,IF('Prod Csg Aff'!I9="Yes - 3 Tapers",'Prod Csg Aff'!R13,"")) | X18: =IF('Prod Csg Aff'!I9="Yes - 2 Tapers",'Prod Csg Aff'!F13,IF('Prod Csg Aff'!I9="Yes - 3 Tapers",'Prod Csg Aff'!F13,"")) | AD18: =IF('Prod Csg Aff'!I9="Yes - 2 Tapers",'Prod Csg Aff'!L13,IF('Prod Csg Aff'!I9="Yes - 3 Tapers",'Prod Csg Aff'!L13,""))
M19: =IF('Prod Csg Aff'!I9="Yes - 3 Tapers",'Prod Csg Aff'!A14,"") | S19: =IF('Prod Csg Aff'!I9="Yes - 3 Tapers",'Prod Csg Aff'!R14,"") | X19: =IF('Prod Csg Aff'!I9="Yes - 3 Tapers",'Prod Csg Aff'!F14,"") | AD19: =IF('Prod Csg Aff'!I9="Yes - 3 Tapers",'Prod Csg Aff'!L14,"")
M20: =IF('Prod Csg Aff'!AP16="Yes","NOTE: Production String is Taperred","")
A21: SPUD DATE: | Q21: FINAL TD DATE: | AJ21: FINAL GROUND ELEVATION TD (ft): | BC21: FINAL KB TD (ft): | BV21: RIG RELEASE DATE:
A24: SPUD TIME: | Q24: FINAL TD TIME: | AJ24: FINAL GROUND ELEVATION TVD (ft): | BC24: FINAL KB TVD (ft): | BV24: RIG RELEASE TIME:
A27: PERMITTED DEPTH (ft): | T27: FINAL GROUND ELEVATION TD (ft) | AF27: - | AH27: PERMITTED DEPTH (ft) | AP27: = | AR27: FOOTAGE UNDER/OVER PERMITTED DEPTH (ft) | BG27: = | BI27: =AV21-J27 -> 0 | BR27: "DEEPEN" WORK PERMIT IS NOW REQUIRED

Sheet Surf Csg Aff
A1: LOUISIANA DEPARTMENT OF CONSERVATION AND ENERGY
A2: "SHREVEPORT DISTRICT" AFFIDAVIT OF TEST OF CASING IN WELL
A4: SPUD DATE: | H4: =IF('Well Summary'!J21="","",'Well Summary'!J21)
A5: DATE WORK DONE: | AH5: WELL SERIAL NUMBER: | AW5: =IF('Well Summary'!O5="","",'Well Summary'!O5)
A7: Operator: | F7: =IF('Well Summary'!H6="","",'Well Summary'!H6) | AD7: Well Name: | AE7: =IF('Well Summary'!BA6="","",'Well Summary'!BA6) | BC7: Well No: | BD7: =IF('Well Summary'!CJ6="","",'Well Summary'!CJ6)
A8: Field: | D8: =IF('Well Summary'!E7="","",'Well Summary'!E7) | AF8: Parish: | AJ8: =IF('Well Summary'!BC7="","",'Well Summary'!BC7) | AQ8: Sec: | AT8: =IF('Well Summary'!BR7="","",'Well Summary'!BR7) | AW8: Twp: | AZ8: =IF('Well Summary'!CC7="","",'Well Summary'!CC7) | BC8: Rng: | BF8: =IF('Well Summary'!CL7="","",'Well Summary'!CL7)
B9: All reported measurements are referenced from ground elevation.
A10: Casing Size (in) | F10: Upper Set Depth (ft) | L10: Lower Set Depth (ft) | R10: Weight (lbs) | W10: Make | AG10: Thread Type | AN10: No. Threads per in. | AS10: Grade | AY10: Seamless | BE10: New or Used
A12: If used pipe, was pipe tested: | U12: Describe Test:
G13: Hole Depth: | O13: feet | W13: Hole Size: | AD13: inches
A14: LEAD SLURRY: | AE14: MID SLURRY:
G15: Sacks | P15: ppg | W15: ft3/sk | AJ15: Sacks | AS15: ppg | AZ15: ft3/sk
A16: TAIL SLURRY: | AE16: TOP OFF/DV TOOL:
G17: Sacks | P17: ppg | W17: ft3/sk | AJ17: Sacks | AS17: ppg | AZ17: ft3/sk
A18: Total sacks of cement used: | N18: =IF(A11="","",B15+AE15+B17+AE17) | T18: Sacks
A19: Method of cementing:
A20: Top of Cement: | O20: feet | AA20: Calculated or Verified: | AL20: Total time set: | AW20: hrs. | AY20: (minimum 12 hrs)
A21: Remarks (circulated / DV tools used):
A24: DETAIL OF PRESSURE TEST BEFORE DRILLING PLUG OR RETEST ABOVE PACKER
A25: *Test chart must be immediately available when requested*
A26: Date of Test: | AG26: Test Type:
A27: Initial gauge pressure of casing: | U27: psig | AG27: Final gauge pressure at end of 30 minutes: | BF27: psig
A28: (Max. 10% Drop) | J28: Pressure Drop: | Q28: =IF(O27="","",O27-AY27) | X28: psig | AB28: Percent Drop: | AI28: =IF(Q28="","",Q28/O27)
A29: Test Fluid: | U29: Weight | AE29: ppg
A30: Remarks:
A31: Electronic Signature:
A33: Operator Representative Name | X33: Date
A34: You are providing your electronic signature with this affidavit stating that all information that you provided is true and done according to the rules and regulations of the Statewide Order No. 29-B.

Sheet Int 1 Csg Aff
A1: LOUISIANA DEPARTMENT OF CONSERVATION AND ENERGY
A2: "SHREVEPORT DISTRICT" AFFIDAVIT OF TEST OF CASING IN WELL
A4: SPUD DATE: | H4: =IF('Well Summary'!J21="","",'Well Summary'!J21)
A5: DATE WORK DONE: | AH5: WELL SERIAL NUMBER: | AW5: =IF('Well Summary'!O5="","",'Well Summary'!O5)
A7: Operator: | F7: =IF('Well Summary'!H6="","",'Well Summary'!H6) | AD7: Well Name: | AE7: =IF('Well Summary'!BA6="","",'Well Summary'!BA6) | BC7: Well No: | BD7: =IF('Well Summary'!CJ6="","",'Well Summary'!CJ6)
A8: Field: | D8: =IF('Well Summary'!E7="","",'Well Summary'!E7) | AF8: Parish: | AJ8: =IF('Well Summary'!BC7="","",'Well Summary'!BC7) | AQ8: Sec: | AT8: =IF('Well Summary'!BR7="","",'Well Summary'!BR7) | AW8: Twp: | AZ8: =IF('Well Summary'!CC7="","",'Well Summary'!CC7) | BC8: Rng: | BF8: =IF('Well Summary'!CL7="","",'Well Summary'!CL7)
B9: All reported measurements are referenced from ground elevation.
A10: Casing Size (in) | F10: Upper Set Depth (ft) | L10: Lower Set Depth (ft) | R10: Weight (lbs) | W10: Make | AG10: Thread Type | AN10: No. Threads per in. | AS10: Grade | AY10: Seamless | BE10: New or Used
A12: If used pipe, was pipe tested: | U12: Describe Test:
G13: Hole Depth: | O13: feet | W13: Hole Size: | AD13: inches
A14: LEAD SLURRY: | AE14: MID SLURRY:
G15: Sacks | P15: ppg | W15: ft3/sk | AJ15: Sacks | AS15: ppg | AZ15: ft3/sk
A16: TAIL SLURRY: | AE16: TOP OFF/DV TOOL:
G17: Sacks | P17: ppg | W17: ft3/sk | AJ17: Sacks | AS17: ppg | AZ17: ft3/sk
A18: Total sacks of cement used: | N18: =IF(A11="","",B15+AE15+B17+AE17) | T18: Sacks
A19: Method of cementing:
A20: Top of Cement: | O20: feet | AA20: Calculated or Verified: | AL20: Total time set: | AW20: hrs. | AY20: (minimum 12 hrs)
A21: Remarks (circulated / DV tools used):
A24: DETAIL OF PRESSURE TEST BEFORE DRILLING PLUG OR RETEST ABOVE PACKER
A25: *Test chart must be immediately available when requested*
A26: Date of Test: | AG26: Test Type:
A27: Initial gauge pressure of casing: | U27: psig | AG27: Final gauge pressure at end of 30 minutes: | BF27: psig
A28: (Max. 10% Drop) | J28: Pressure Drop: | Q28: =IF(O27="","",O27-AY27) | X28: psig | AB28: Percent Drop: | AI28: =IF(Q28="","",Q28/O27)
A29: Test Fluid: | U29: Weight | AE29: ppg
A30: Remarks:
A31: Electronic Signature:
A33: Operator Representative Name | X33: Date
A34: You are providing your electronic signature with this affidavit stating that all information that you provided is true and done according to the rules and regulations of the Statewide Order No. 29-B.

Sheet Int 2 Csg Aff
A1: LOUISIANA DEPARTMENT OF CONSERVATION AND ENERGY
A2: "SHREVEPORT DISTRICT" AFFIDAVIT OF TEST OF CASING IN WELL
A4: SPUD DATE: | H4: =IF('Well Summary'!J21="","",'Well Summary'!J21)
A5: DATE WORK DONE: | AH5: WELL SERIAL NUMBER: | AW5: =IF('Well Summary'!O5="","",'Well Summary'!O5)
A7: Operator: | F7: =IF('Well Summary'!H6="","",'Well Summary'!H6) | AD7: Well Name: | AE7: =IF('Well Summary'!BA6="","",'Well Summary'!BA6) | BC7: Well No: | BD7: =IF('Well Summary'!CJ6="","",'Well Summary'!CJ6)
A8: Field: | D8: =IF('Well Summary'!E7="","",'Well Summary'!E7) | AF8: Parish: | AJ8: =IF('Well Summary'!BC7="","",'Well Summary'!BC7) | AQ8: Sec: | AT8: =IF('Well Summary'!BR7="","",'Well Summary'!BR7) | AW8: Twp: | AZ8: =IF('Well Summary'!CC7="","",'Well Summary'!CC7) | BC8: Rng: | BF8: =IF('Well Summary'!CL7="","",'Well Summary'!CL7)
B9: All reported measurements are referenced from ground elevation.
A10: Casing Size (in) | F10: Upper Set Depth (ft) | L10: Lower Set Depth (ft) | R10: Weight (lbs) | W10: Make | AG10: Thread Type | AN10: No. Threads per in. | AS10: Grade | AY10: Seamless | BE10: New or Used
A12: If used pipe, was pipe tested: | U12: Describe Test:
G13: Hole Depth: | O13: feet | W13: Hole Size: | AD13: inches
A14: LEAD SLURRY: | AE14: MID SLURRY:
G15: Sacks | P15: ppg | W15: ft3/sk | AJ15: Sacks | AS15: ppg | AZ15: ft3/sk
A16: TAIL SLURRY: | AE16: TOP OFF/DV TOOL:
G17: Sacks | P17: ppg | W17: ft3/sk | AJ17: Sacks | AS17: ppg | AZ17: ft3/sk
A18: Total sacks of cement used: | N18: =IF(A11="","",B15+AE15+B17+AE17) | T18: Sacks
A19: Method of cementing:
A20: Top of Cement: | O20: feet | AA20: Calculated or Verified: | AL20: Total time set: | AW20: hrs. | AY20: (minimum 12 hrs)
A21: Remarks (circulated / DV tools used):
A24: DETAIL OF PRESSURE TEST BEFORE DRILLING PLUG OR RETEST ABOVE PACKER
A25: *Test chart must be immediately available when requested*
A26: Date of Test: | AG26: Test Type:
A27: Initial gauge pressure of casing: | U27: psig | AG27: Final gauge pressure at end of 30 minutes: | BF27: psig
A28: (Max. 10% Drop) | J28: Pressure Drop: | Q28: =IF(O27="","",O27-AY27) | X28: psig | AB28: Percent Drop: | AI28: =IF(Q28="","",Q28/O27)
A29: Test Fluid: | U29: Weight | AE29: ppg
A30: Remarks:
A31: Electronic Signature:
A33: Operator Representative Name | X33: Date
A34: You are providing your electronic signature with this affidavit stating that all information that you provided is true and done according to the rules and regulations of the Statewide Order No. 29-B.

Sheet Prod Csg Aff
A1: LOUISIANA DEPARTMENT OF CONSERVATION AND ENERGY
A2: "SHREVEPORT DISTRICT" AFFIDAVIT OF TEST OF CASING IN WELL
A4: SPUD DATE: | H4: =IF('Well Summary'!J21="","",'Well Summary'!J21)
A5: DATE WORK DONE: | AH5: WELL SERIAL NUMBER: | AW5: =IF('Well Summary'!O5="","",'Well Summary'!O5)
A7: Operator: | F7: =IF('Well Summary'!H6="","",'Well Summary'!H6) | AD7: Well Name: | AE7: =IF('Well Summary'!BA6="","",'Well Summary'!BA6) | BC7: Well No: | BD7: =IF('Well Summary'!CJ6="","",'Well Summary'!CJ6)
A8: Field: | D8: =IF('Well Summary'!E7="","",'Well Summary'!E7) | AF8: Parish: | AJ8: =IF('Well Summary'!BC7="","",'Well Summary'!BC7) | AQ8: Sec: | AT8: =IF('Well Summary'!BR7="","",'Well Summary'!BR7) | AW8: Twp: | AZ8: =IF('Well Summary'!CC7="","",'Well Summary'!CC7) | BC8: Rng: | BF8: =IF('Well Summary'!CL7="","",'Well Summary'!CL7)
A9: Tapered String:
B10: All reported measurements are referenced from ground elevation.
A11: Casing Size (in) | F11: Upper Set Depth (ft) | L11: Lower Set Depth (ft) | R11: Weight (lbs) | W11: Make | AG11: Thread Type | AN11: No. Threads per in. | AS11: Grade | AY11: Seamless | BE11: New or Used
A15: If used pipe, was pipe tested: | U15: Describe Test:
G16: Hole Depth: | O16: feet | W16: Hole Size: | AD16: inches
A17: LEAD SLURRY: | AE17: MID SLURRY:
G18: Sacks | P18: ppg | W18: ft3/sk | AJ18: Sacks | AS18: ppg | AZ18: ft3/sk
A19: TAIL SLURRY: | AE19: TOP OFF/DV TOOL:
G20: Sacks | P20: ppg | W20: ft3/sk | AJ20: Sacks | AS20: ppg | AZ20: ft3/sk
A21: Total sacks of cement used: | N21: =IF(A12="","",B18+AE18+B20+AE20) | T21: Sacks
A22: Method of cementing:
A23: Top of Cement: | O23: feet | AA23: Calculated or Verified: | AL23: Total time set: | AW23: hrs. | AY23: (minimum 12 hrs)
A24: Remarks (circulated / DV tools used):
A27: DETAIL OF PRESSURE TEST BEFORE PERFORATING OR OPENING OF A SLEEVE
A28: *Test chart must be immediately available when requested*
A29: Date of Test: | AG29: Test Type:
A30: Initial gauge pressure of casing: | U30: psig | AG30: Final gauge pressure at end of 30 minutes: | BF30: psig
A31: (Max. 10% Drop) | J31: Pressure Drop: | Q31: =IF(O30="","",O30-AY30) | X31: psig | AB31: Percent Drop: | AI31: =IF(Q31="","",Q31/O30)
A32: Test Fluid: | U32: Weight | AE32: ppg
A33: Remarks:
A34: Electronic Signature:
A36: Operator Representative Name | X36: Date
A37: You are providing your electronic signature with this affidavit stating that all information that you provided is true and done according to the rules and regulations of the Statewide Order No. 29-B.

Sheet Instructions
A1: Instructions for Renaming the File Name:
A2: First thing to do before filling out this report is to rename the file so that it reflects the correct well serial number, well name & number. The file should be named as follows: Well Serial Number - Well Name & Number, i.e.: 255888 - HA RB SU78;THMBRO34&27-14-10HC #001-ALT.
A4: Instructions for Well Summary (Well Summary Tab):
A5: Start with "Well Summary" tab. Fill in the known information in the olive green areas as it will carry this information to the rest of the spreadsheet. You will have to come back to this tab when drilling is finished to complete the Final well information.
A7: Instructions for Weekly Progress Report (mm.dd.yy Tab & Blank Weekly):
A8: Fairly self explanatory, fill in all necessary information, the cells highlighted in an olive green need to be filled in. The goal of the "Weekly Progress Report" is a weekly summary starting at 6 am on Monday and ending at 6 am on the following Monday (the Monday the report is due). The "Date of Report" must always be a Monday date (the Monday the report is due). You will report a brief daily summary of 24 hours from 6 am the previous day until 6 am the day of your report, should be very similar to your company's daily reporting, but can be simplified (NOTE: we are limited on space and need to keep the information limited to what is visibly provided in the sheet). There is a daily summary for each day of the week and this daily combination makes the Weekly Progress Report. Include the name and contact information for the person on location who completed the Weekly Progress Report. Before you send in the report you need to ensure to properly name your Weekly Progress Report tab. The tab of your Weekly Progress Report should be named the date you sent in the report, for example if your report is due on Monday 6/7/2021, then the tab name will be 6.7.21. You will then copy this tab and create a new one and have the most current date to be the first tab, of the tab furthest to the left. A "Blank Weekly" tab is available for you to copy and rename your new tab, and you can name it in the format previously mentioned as mm.dd.yy, but with the current and correct date. You will continue to add tabs as needed with the most recent tab being the first tab on the bottom (furthest to the left) and continue to add on from there. If work is not performed for many weeks, you can have a jump in time regarding the tabs and not report anything for that week(s). NOTE: By filling in the "Field" in the Well Summary Tab this will automatically fill in who the appropriate CES (Conservation Enforcement Specialist) is in the Weekly Progress Report, along with their contact information for this well and they must be included when emailing this report. The Well Summary tab and the Casing Test tabs will never need to be renamed, moved, changed and/or deleted, only information inputted. Once the well has reached TD, return to the Well Summary tab to include the final well information. See below for email instructions. The goal is to have a summary of the well all in one file. This file will need to be sent on to your Completions and/or Production group, as they will use it for their weekly updates to the State until the well is turned to sales, turned in line, or turned to tanks for production and at that point this reporting will be finished.
A10: Instructions for Casing Tests (Suf Csg Aff, Int 1 Csg Aff, Int 2 Csg Aff & Prod Csg Aff Tab):
A11: Fairly self explanatory, fill in all necessary information, cells highlighted in the olive green areas need to be filled in. Complete the affidavit after a string of casing has been ran, cemented and/or tested. NOTE: If only one slurry is pumped, input information in "Lead Slurry". Surf Csg Aff tab is for the surface casing and cementing information, Int 1Csg Aff tab is for the intermediate casing and cementing information, Int 2 Csg Aff tab is for an additional intermediate casing and cementing information (NOTE: THE SECOND INT CSG AFF TAB IS AVAILABLE IF NEEDED FOR AN ADDITIONAL INTERMEDIATE STRING, IF NOT NEEDED YOU CAN LEAVE THIS TAB BLANK AND MOVE ON TO THE PROD CSG AFF TAB). Electronic Signatures are accepted as signatures, therefore it is no longer needed to print and sign forms or have CES sign these forms, Operator Representative must be included and dated. This is an affidavit therefore you are providing your electronic signature with this affidavit stating that all information that you provided is true and done according to the rules and regulations of the Statewide Order No. 29-B. Again, the Well Summary tab and the Casing Affidavit tabs will never need to be renamed, moved, changed and/or deleted.
A13: BOP Tests Instructions (BOP Aff Tab, formerly the DWIR Form):
A14: Same information from previous form, but now simplified. Utilize the drop down lists for Test Type, Operation & Test Result. Put the date in for Test Date. If you select Pressure Test it will let you know when your Next Pressure Test and Function Test willl be needed. BOP test charts/graphs are to be emailed in as soon after the test as possible and the test charts/graphs need to be immediately available when requested.
A16: Email Instructions:
A17: Email this Excel sheet. Email Subject Line should read as Well Summary - Well Serial Number - Well Name & Number, i.e.: 255888 - HA RB SU78;THMBRO34&27-14-10HC 001-ALT. This will be the same name as the file name.
... A26: UPDATED 6/10/2026

Sheet Office Use
B2: Drop Down Lists: | L2: Field Name | M2: Agent
B3: Cement Verification | E3: Parish | G3: YES | I3: Drilling | J3: 5 | L3: ADA | M3: Michael "Scott" Sutton - Phone: 318-237-9779 - email: Michael.Sutton@la.gov
B4: Visually Verified | E4: Bienville | G4: NO | I4: Well TD | J4: 31 | L4: AJAX | M4: Drew Appleby - Phone: 318-312-1755 - email: Andrew.Appleby@la.gov
B5: Calculated | E5: Bossier | I5: Operations Suspended | J5: 7 | L5: ALABAMA BEND | M5: Heath Mott - Phone: 318-758-4796 - email: Heath.Mott@la.gov
B6: CBL | E6: Caddo | I6: Frac Prep | J6: 9 | L6: ALDEN BRIDGE | M6: Gerald Humphrey - Phone: 318-465-1396 - email: Gerald.Humphrey@la.gov
B7: Other | E7: Caldwell | I7: Frac | J7: 9 | L7: ALPHA | M7: Twyman Appleby - Phone: 318-758-1849 - email: Twyman.Appleby@la.gov
E8: Claiborne | G8: NEW | I8: Completion | J8: 9 | L8: ANACOCO LAKE | M8: Drew Appleby - Phone: 318-312-1755 - email: Andrew.Appleby@la.gov
E9: De Soto | G9: USED | I9: Drillout | J9: 8 | L9: ANTIOCH | M9: Jerry Mathewes - Phone: 318-245-5898 - email: Jerry.Mathewes@la.gov
B10: Pipe RAM | E10: Jackson | I10: Flowback | J10: 8 | L10: ANTIOCH, NORTHWEST | M10: Jerry Mathewes - Phone: 318-245-5898 - email: Jerry.Mathewes@la.gov
B11: Blind RAM | E11: Lincoln | I11: Workover | J11: 33 | L11: ANTRIM | M11: Gerald Humphrey - Phone: 318-465-1396 - email: Gerald.Humphrey@la.gov
B12: Sheer RAM | E12: Natchitoches | I12: Plug & Abandonment | J12: 30 | L12: ANTRIM, NORTH | M12: Michael "Scott" Sutton - Phone: 318-237-9779 - email: Michael.Sutton@la.gov
E13: Red River | I13: Other | J13: 33 | L13: ARCADIA | M13: Michael "Scott" Sutton - Phone: 318-237-9779 - email: Michael.Sutton@la.gov
E14: Sabine | G14: NO | L14: ARCADIA DOME | M14: Gerald Humphrey - Phone: 318-465-1396 - email: Gerald.Humphrey@la.gov
E15: Union | G15: YES - 2 TAPERS | L15: ARCADIA, NORTH | M15: Michael "Scott" Sutton - Phone: 318-237-9779 - email: Michael.Sutton@la.gov
B16: 2 | E16: Vernon | G16: YES - 3 TAPERS | L16: ARCADIA, WEST | M16: Michael "Scott" Sutton - Phone: 318-237-9779 - email: Michael.Sutton@la.gov
B17: 3 | E17: Webster | L17: ARKANA | M17: Gerald Humphrey - Phone: 318-465-1396 - email: Gerald.Humphrey@la.gov
B18: 4 | E18: Winn | L18: ASHLAND | M18: Twyman Appleby - Phone: 318-758-1849 - email: Twyman.Appleby@la.gov
B19: 5 | L19: ATHENS | M19: Jerry Mathewes - Phone: 318-245-5898 - email: Jerry.Mathewes@la.gov
L20: ATKINS | M20: Wilton "Rick" Guice - Phone: 318-655-8505 - email: Wilton.Guice@la.gov
L21: ATLANTA | M21: Twyman Appleby - Phone: 318-758-1849 - email: Twyman.Appleby@la.gov
B22: PASS | L22: ATLANTA, SOUTH | M22: Twyman Appleby - Phone: 318-758-1849 - email: Twyman.Appleby@la.gov
B23: FAIL | L23: BAYOU MIDDLE FORK | M23: Jerry Mathewes - Phone: 318-245-5898 - email: Jerry.Mathewes@la.gov
L24: BAYOU PIERRE | M24: Twyman Appleby - Phone: 318-758-1849 - email: Twyman.Appleby@la.gov
L25: BAYOU SAN MIGUEL | M25: Drew Appleby - Phone: 318-312-1755 - email: Andrew.Appleby@la.gov
B26: PRESSURE TEST | L26: BAYOU TOULON | M26: Heath Mott - Phone: 318-758-4796 - email: Heath.Mott@la.gov
B27: FUNCTION TEST | L27: BEAR CREEK | M27: Michael "Scott" Sutton - Phone: 318-237-9779 - email: Michael.Sutton@la.gov
L28: BEECH CREEK | M28: Twyman Appleby - Phone: 318-758-1849 - email: Twyman.Appleby@la.gov
L29: BELLE BOWER | M29: Jerry Tatum - Phone: 318-729-7025 - email: Jerry.Tatum@la.gov
L30: BELLEVUE | M30: Michael "Scott" Sutton - Phone: 318-237-9779 - email: Michael.Sutton@la.gov
L31: BENSON | M31: Drew Appleby - Phone: 318-312-1755 - email: Andrew.Appleby@la.gov
B32: DRILLING RIG | L32: BENSON, WEST | M32: Drew Appleby - Phone: 318-312-1755 - email: Andrew.Appleby@la.gov
B33: WORKOVER RIG | L33: BENTON | M33: Gerald Humphrey - Phone: 318-465-1396 - email: Gerald.Humphrey@la.gov
B34: COIL TUBING UNIT | L34: BETHANY LONGSTREET | M34: Jerry Tatum - Phone: 318-729-7025 - email: Jerry.Tatum@la.gov
B35: SNUBBING UNIT | L35: BLACK LAKE | M35: Twyman Appleby - Phone: 318-758-1849 - email: Twyman.Appleby@la.gov
B36: WIRELINE | L36: BLACKBURN | M36: Jerry Mathewes - Phone: 318-245-5898 - email: Jerry.Mathewes@la.gov
B37: OTHER | L37: BLACKBURN, EAST | M37: Jerry Mathewes - Phone: 318-245-5898 - email: Jerry.Mathewes@la.gov
L38: BLUE LAKE | M38: Drew Appleby - Phone: 318-312-1755 - email: Andrew.Appleby@la.gov
L39: BOLINGER | M39: Gerald Humphrey - Phone: 318-465-1396 - email: Gerald.Humphrey@la.gov
B40: ORIGINAL | L40: BOZEMAN BRANCH | M40: Twyman Appleby - Phone: 318-758-1849 - email: Twyman.Appleby@la.gov
B41: RETEST | L41: BRACKY BRANCH | M41: Heath Mott - Phone: 318-758-4796 - email: Heath.Mott@la.gov
L42: BRUSHY BAYOU | M42: Twyman Appleby - Phone: 318-758-1849 - email: Twyman.Appleby@la.gov
L43: BRYCELAND | M43: Michael "Scott" Sutton - Phone: 318-237-9779 - email: Michael.Sutton@la.gov
L44: BRYCELAND, WEST | M44: Michael "Scott" Sutton - Phone: 318-237-9779 - email: Michael.Sutton@la.gov
L45: BUFFALO BAYOU | M45: Jerry Tatum - Phone: 318-729-7025 - email: Jerry.Tatum@la.gov
L46: BULGER CREEK | M46: Twyman Appleby - Phone: 318-758-1849 - email: Twyman.Appleby@la.gov
L47: BURNSTOWN | M47: Drew Appleby - Phone: 318-312-1755 - email: Andrew.Appleby@la.gov
L48: BURR FERRY | M48: Drew Appleby - Phone: 318-312-1755 - email: Andrew.Appleby@la.gov
L49: BURR FERRY, NORTH | M49: Drew Appleby - Phone: 318-312-1755 - email: Andrew.Appleby@la.gov
L50: CADDO PINE ISLAND - BOSSIER PARISH | M50: John Moore - Phone: 318-393-4897 - email: John.Moore2@la.gov
L51: CADDO PINE ISLAND - T19N | M51: John Moore - Phone: 318-393-4897 - email: John.Moore2@la.gov
L52: CADDO PINE ISLAND - T20N-R14W, T21N-R14W | M52: John Moore - Phone: 318-393-4897 - email: John.Moore2@la.gov
L53: CADDO PINE ISLAND - T20N-R15W, T21N-R16W | M53: William "Bill" Sniffen - Phone: 318-564-7487 - email: William.Sniffen@la.gov
... L282: ZWOLLE | M282: Drew Appleby - Phone: 318-312-1755 - email: Andrew.Appleby@la.gov

Sheet Blank Weekly DNU
A1: LOUISIANA DEPARTMENT OF CONSERVATION AND ENERGY
A2: "SHREVEPORT DISTRICT" WEEKLY PROGRESS REPORT
A3: Send to DCEconservation.shreveport@la.gov every Monday by 9:00 AM from location, or by 12:00 PM from office.
A4: DATE OF REPORT: | AH4: WELL SERIAL NUMBER: | AW4: =IF('Well Summary'!O5="","",'Well Summary'!O5)
A5: Operator: | F5: =IF('Well Summary'!H6="","",'Well Summary'!H6) | AD5: Well Name: | AE5: =IF('Well Summary'!BA6="","",'Well Summary'!BA6) | BC5: Well No: | BD5: =IF('Well Summary'!CJ6="","",'Well Summary'!CJ6)
A6: Field: | D6: =IF('Well Summary'!E7="","",'Well Summary'!E7) | AF6: Parish: | AJ6: =IF('Well Summary'!BC7="","",'Well Summary'!BC7) | AQ6: Sec: | AT6: =IF('Well Summary'!BR7="","",'Well Summary'!BR7) | AW6: Twp: | AZ6: =IF('Well Summary'!CC7="","",'Well Summary'!CC7) | BC6: Rng: | BF6: =IF('Well Summary'!CL7="","",'Well Summary'!CL7)
A7: Operation: | AO7: Rig Name: | AP7: =IF('Well Summary'!H8="","",'Well Summary'!H8)
A8: DNR Conservation Enforcement Specialist: | T8: =VLOOKUP(D6,'Office Use'!L3:M282,2,FALSE) -> #N/A
F9: =IF(F7="Drilling",5,IF(F7="Completion",9,IF(F7="Operations Suspended",7,IF(F7="Drillout",8,IF(F7="Flowback",8,IF(F7="Well TD",31,IF(F7="Frac Prep",9,IF(F7="Frac",9,IF(F7="Plug & Abandonment",30,IF(F7="Workover",33,IF(F7="Other",33,""))))))))))) | H9: All reported measurements are referenced from ground elevation.
Q10: Last BOP Pressure Test Date: | AV10: Last BOP Function Test Date:
Q11: Next BOP Pressure Test Due Date: | R11: =IF(R10="","",R10+14) | AV11: Next BOP Function Test Due Date: | AW11: =IF(AW10="","",AW10+7)
A13: =IF(F7="Frac Prep","Estimated or Start Frac Date:",IF(F7="Frac","Estimated or Start Frac Date:","Current MD (ft):")) -> Current MD (ft): | P13: =IF(F7="Frac Prep","Estimated or Final Frac Date:",IF(F7="Frac","Estimated or Final Frac Date:","Current TVD (ft):")) -> Current TVD (ft): | AF13: =IF(F7="Drilling","Hole Size (in):",IF(F7="Frac","Est. Total Frac Stages:",""))
BB14: =IF(F7="Drilling","Kick-Off Point (ft):","")
S16: FINAL TD (ft): | T16: =IF('Well Summary'!AV21="","",'Well Summary'!AV21) | AP16: FINAL TVD (ft): | AQ16: =IF('Well Summary'!AV24="","",'Well Summary'!AV24)
A18: WEEKLY ACTIVITY SUMMARY
A20: From | C20: =IF(K4="","",C22-1)
C21: Mon. 6:00 AM
A22: To | C22: =IF(K4="","",C24)
C23: Tues. 6:00 AM
A24: From | C24: =IF(K4="","",C26-1)
C25: Tues. 6:00 AM
A26: To | C26: =IF(K4="","",C28)
C27: Wed. 6:00 AM
A28: From | C28: =IF(K4="","",C30-1)
C29: Wed. 6:00 AM
A30: To | C30: =IF(K4="","",C32)
C31: Thurs. 6:00 AM
A32: From | C32: =IF(K4="","",C34-1)
C33: Thurs. 6:00 AM
A34: To | C34: =IF(K4="","",C36)
C35: Fri. 6:00 AM
A36: From | C36: =IF(K4="","",C38-1)
C37: Fri. 6:00 AM
A38: To | C38: =IF(K4="","",C40)
C39: Sat. 6:00 AM
A40: From | C40: =IF(K4="","",C42-1)
C41: Sat. 6:00 AM
A42: To | C42: =IF(K4="","",C44)
C43: Sun. 6:00 AM
A44: From | C44: =IF(K4="","",C46-1)
C45: Sun. 6:00 AM
A46: To | C46: =IF(K4="","",K4)
C47: Mon. 6:00 AM
A48: ="Scout Code"&" "&F9&": "&TEXT(C22,"m/d/yyyy")&" "&C23&" - "&J20&"; "&TEXT(C26,"m/d/yyyy")&" "&C27&" - "&J24&"; "&TEXT(C30,"m/d/yyyy")&" "&C31&" - "&J28&"; "&TEXT(C34,"m/d/yyyy")&" "&C35&" - "&J32&"; "&TEXT(C38,"m/d/yyyy")&" "&C39&" - "&J36&"; "&TEXT(C42,"m/d/yyyy")&" "&C43&" - "&J40&"; "&TEXT(C46,"m/d/yyyy")&" "&C47&" - "&J44 -> Scout Code : Tues. 6:00 AM - ; Wed. 6:00 AM - ; Thurs. 6:00 AM - ; Fri. 6:00 AM - ; Sat. 6:00 AM - ; Sun. 6:00 AM - ; Mon. 6:00 AM - | B48: ="Scout Code"&" "&F9&": "&TEXT(C22,"m/d/yyyy")&" "&C23&" - "&J20&"; "&TEXT(C26,"m/d/yyyy")&" "&C27&" - "&J24&"; "&TEXT(C30,"m/d/yyyy")&" "&C31&" - "&J28&"; "&TEXT(C34,"m/d/yyyy")&" "&C35&" - "&J32&"; "&TEXT(C38,"m/d/yyyy")&" "&C39&" - "&J36&"; "&TEXT(C42,"m/d/yyyy")&" "&C43&" - "&J40&"; "&TEXT(C46,"m/d/yyyy")&" "&C47&" - "&J44 -> Scout Code : Tues. 6:00 AM - ; Wed. 6:00 AM - ; Thurs. 6:00 AM - ; Fri. 6:00 AM - ; Sat. 6:00 AM - ; Sun. 6:00 AM - ; Mon. 6:00 AM -
A50: Future Activity
A53: REMARKS/COMMENTS
Q57: Operator Representative Name: | AX57: Phone #:
