BEGIN:VCALENDAR
VERSION:2.0
PRODID:-//Covalent Logic//Content Management System//EN
BEGIN:VEVENT
UID:1776959978401.COVALENTLOGIC.COM
DTSTART:20261126T060000Z
DTEND:20261126T060000Z
SUMMARY:Thanksgiving – Legal Holiday
LOCATION:C&E offices will be closed on Thursday, November 26, 2026, in observance of the Thanksgiving holiday., LA 
DESCRIPTION:
PRIORITY:5
END:VEVENT
END:VCALENDAR