BEGIN:VCALENDAR
VERSION:2.0
PRODID:-//Covalent Logic//Content Management System//EN
BEGIN:VEVENT
UID:1776959985917.COVALENTLOGIC.COM
DTSTART:20260403T050000Z
DTEND:20260403T050000Z
SUMMARY:Good Friday - Legal Holiday
LOCATION:C&E offices will be closed on Friday, April 3, 2026, in observance of the Good Friday Holiday.
DESCRIPTION:
PRIORITY:5
END:VEVENT
END:VCALENDAR