BEGIN:VCALENDAR
VERSION:2.0
PRODID:-//Covalent Logic//Content Management System//EN
BEGIN:VEVENT
UID:1777050746243.COVALENTLOGIC.COM
DTSTART:20260127T060000Z
DTEND:20260127T060000Z
SUMMARY:Public Hearing – Vinton Dome Storage Hub, LLC
LOCATION:<a href="/calendar/detail/public-hearing-vinton-dome-storage-hub">More information</a>
DESCRIPTION:
PRIORITY:5
END:VEVENT
END:VCALENDAR