BEGIN:VCALENDAR
VERSION:2.0
PRODID:-//Covalent Logic//Content Management System//EN
BEGIN:VEVENT
UID:1776959978903.COVALENTLOGIC.COM
DTSTART:20251216T203000Z
DTEND:20251216T223000Z
SUMMARY:Natural Resources Committee Meeting
LOCATION:LaSalle Building, LeBelle Room <br><br><a href="/assets/Calendar/Natural-Resources-Committee/NRC-Agenda-Dec-2025.pdf">Meeting Agenda</a>
DESCRIPTION:
PRIORITY:5
END:VEVENT
END:VCALENDAR