BEGIN:VCALENDAR
VERSION:2.0
PRODID:-//Covalent Logic//Content Management System//EN
BEGIN:VEVENT
UID:1776959979405.COVALENTLOGIC.COM
DTSTART:20251007T050000Z
DTEND:20251007T050000Z
SUMMARY:Oil and Gas Hearings
LOCATION:LaSalle Building, 1st Floor, LaBelle Room, Baton Rouge, LA; Begin at 9:00 a.m.
DESCRIPTION:Begin at 9:00 a.m. <a href="https://denr.louisiana.gov/page/oil-gas-hearings-please-do-not-edit">Click here for docket information.</a>
PRIORITY:5
END:VEVENT
END:VCALENDAR